View In:
ArcGIS JavaScript
ArcGIS Online Map Viewer
ArcGIS Earth
Service Description: Hydraulic head difference between the Surficial Aquifer System (SAS) and the Floridan Aquifer System (FAS) calculated by subtracting the FAS predevelopment potentiometric surface (USGS OFR 80-406) from the SAS water table surface (developed for the FAVA model).
Name: OpenData/HEAD_DIFF
Description: Hydraulic head difference between the Surficial Aquifer System (SAS) and the Floridan Aquifer System (FAS) calculated by subtracting the FAS predevelopment potentiometric surface (USGS OFR 80-406) from the SAS water table surface (developed for the FAVA model).
Single Fused Map Cache: false
Extent:
XMin: 52668.027343998605
YMin: 127156.671875002
XMax: 793998.027343999
YMax: 781636.6718750021
Spatial Reference: 102967
(6439)
LatestVCSWkid(0)
Initial Extent:
XMin: 52668.027343998605
YMin: 127156.671875002
XMax: 793998.027343999
YMax: 781636.6718750021
Spatial Reference: 102967
(6439)
LatestVCSWkid(0)
Full Extent:
XMin: 52668.027343998605
YMin: 127156.671875002
XMax: 793998.027343999
YMax: 781636.6718750021
Spatial Reference: 102967
(6439)
LatestVCSWkid(0)
Pixel Size X: 90.00000000000006
Pixel Size Y: 90.00000000000001
Band Count: 1
Pixel Type: S16
RasterFunction Infos: {"rasterFunctionInfos": [
{
"name": "HEAD_DIFF_6439",
"description": "A raster function template.",
"help": ""
},
{
"name": "None",
"description": "",
"help": ""
}
]}
Mensuration Capabilities: Basic
Has Histograms: true
Has Colormap: false
Has Multi Dimensions : false
Rendering Rule:
Min Scale: 0
Max Scale: 0
Copyright Text: Florida Geological Survey
Service Data Type: esriImageServiceDataTypeGeneric
Min Values: -89
Max Values: 224
Mean Values: 2.6219702201722903
Standard Deviation Values: 37.3682853990042
Object ID Field:
Fields:
None
Default Mosaic Method: Center
Allowed Mosaic Methods:
SortField:
SortValue: null
Mosaic Operator: First
Default Compression Quality: 75
Default Resampling Method: Bilinear
Max Record Count: null
Max Image Height: 4100
Max Image Width: 15000
Max Download Image Count: null
Max Mosaic Image Count: null
Allow Raster Function: true
Allow Copy: true
Allow Analysis: true
Allow Compute TiePoints: false
Supports Statistics: false
Supports Advanced Queries: false
Use StandardizedQueries: true
Raster Type Infos:
Name: Raster Dataset
Description: Supports all ArcGIS Raster Datasets
Help:
Has Raster Attribute Table: true
Edit Fields Info: null
Ownership Based AccessControl For Rasters: null
Child Resources:
Info
Raster Attribute Table
Histograms
Statistics
Key Properties
Legend
Raster Function Infos
Supported Operations:
Export Image
Identify
Measure
Compute Histograms
Compute Statistics Histograms
Get Samples
Compute Class Statistics
Query Boundary
Compute Pixel Location
Compute Angles
Validate
Project