View In:
ArcGIS JavaScript
ArcGIS Online Map Viewer
ArcGIS Earth
Service Description: The Surficial Aquifer System Response theme grid is the relative vulnerability map for the Surficial Aquifer System. It was calculated using the ArcSDM extension and applying the weights of evidence method. The total number of unique conditions, number of training points per unique condition, evidential theme generalizations and posterior probability are contained in the table. A relative vulnerability class field is also in the table so that the grid can be symbolized based on FAVA vulnerability zones.
Name: OpenData/SAS_RESPONSE
Description: The Surficial Aquifer System Response theme grid is the relative vulnerability map for the Surficial Aquifer System. It was calculated using the ArcSDM extension and applying the weights of evidence method. The total number of unique conditions, number of training points per unique condition, evidential theme generalizations and posterior probability are contained in the table. A relative vulnerability class field is also in the table so that the grid can be symbolized based on FAVA vulnerability zones.
Single Fused Map Cache: false
Extent:
XMin: 52668.0273439993
YMin: 121133.46875000201
XMax: 793968.027343999
YMax: 781613.468750002
Spatial Reference: 102967
(6439)
LatestVCSWkid(0)
Initial Extent:
XMin: 52668.0273439993
YMin: 121133.46875000201
XMax: 793968.027343999
YMax: 781613.468750002
Spatial Reference: 102967
(6439)
LatestVCSWkid(0)
Full Extent:
XMin: 52668.0273439993
YMin: 121133.46875000201
XMax: 793968.027343999
YMax: 781613.468750002
Spatial Reference: 102967
(6439)
LatestVCSWkid(0)
Pixel Size X: 29.99999999999999
Pixel Size Y: 30.0
Band Count: 1
Pixel Type: U8
RasterFunction Infos: {"rasterFunctionInfos": [
{
"name": "SAS_RESPONSE_NEW",
"description": "For SAS_RESPONSE service 2/15/2023",
"help": ""
},
{
"name": "SAS_RESPONSE_6439",
"description": "A raster function template.",
"help": ""
},
{
"name": "SAS_RESPONSE_2_6439",
"description": "A raster function template.",
"help": ""
},
{
"name": "None",
"description": "Make a Raster or Raster Dataset into a Function Raster Dataset.",
"help": ""
}
]}
Mensuration Capabilities: Basic
Has Histograms: true
Has Colormap: false
Has Multi Dimensions : false
Rendering Rule:
Min Scale: 0
Max Scale: 0
Copyright Text: Florida Geological Survey
Service Data Type: esriImageServiceDataTypeGeneric
Min Values: 1
Max Values: 17
Mean Values: 3.550632783753381
Standard Deviation Values: 2.2597328874324027
Object ID Field:
Fields:
None
Default Mosaic Method: Center
Allowed Mosaic Methods:
SortField:
SortValue: null
Mosaic Operator: First
Default Compression Quality: 75
Default Resampling Method: Bilinear
Max Record Count: null
Max Image Height: 4100
Max Image Width: 15000
Max Download Image Count: null
Max Mosaic Image Count: null
Allow Raster Function: true
Allow Copy: true
Allow Analysis: true
Allow Compute TiePoints: false
Supports Statistics: false
Supports Advanced Queries: false
Use StandardizedQueries: true
Raster Type Infos:
Name: Raster Dataset
Description: Supports all ArcGIS Raster Datasets
Help:
Has Raster Attribute Table: true
Edit Fields Info: null
Ownership Based AccessControl For Rasters: null
Child Resources:
Info
Raster Attribute Table
Histograms
Statistics
Key Properties
Legend
Raster Function Infos
Supported Operations:
Export Image
Identify
Measure
Compute Histograms
Compute Statistics Histograms
Get Samples
Compute Class Statistics
Query Boundary
Compute Pixel Location
Compute Angles
Validate
Project