View In:
ArcGIS JavaScript
ArcGIS Online Map Viewer
ArcGIS Earth
Service Description: ER/FEMA_SWEL_01PCT
Name: ER/FEMA_SWEL_01PCT
Description:
Single Fused Map Cache: false
Extent:
XMin: -87.58861930799998
YMin: 23.257766655071173
XMax: -77.59794780575366
YMax: 30.797837713000042
Spatial Reference: 4326
(4326)
LatestVCSWkid(0)
Initial Extent:
XMin: -87.58861930799998
YMin: 23.257766655071173
XMax: -77.59794780575366
YMax: 30.797837713000042
Spatial Reference: 4326
(4326)
LatestVCSWkid(0)
Full Extent:
XMin: -87.58861930799998
YMin: 23.257766655071173
XMax: -77.59794780575366
YMax: 30.797837713000042
Spatial Reference: 4326
(4326)
LatestVCSWkid(0)
Pixel Size X: 2.7380704621372272E-5
Pixel Size Y: 2.7380704621372255E-5
Band Count: 1
Pixel Type: F32
RasterFunction Infos: {"rasterFunctionInfos": [{
"name": "None",
"description": "",
"help": ""
}]}
Mensuration Capabilities: Basic
Has Histograms: true
Has Colormap: false
Has Multi Dimensions : false
Rendering Rule:
Min Scale: 0
Max Scale: 0
Copyright Text:
Service Data Type: esriImageServiceDataTypeGeneric
Min Values: 0
Max Values: 19.7007999420166
Mean Values: 8.698204911634518
Standard Deviation Values: 2.658363055265148
Object ID Field:
Fields:
None
Default Mosaic Method: Center
Allowed Mosaic Methods:
SortField:
SortValue: null
Mosaic Operator: First
Default Compression Quality: 75
Default Resampling Method: Bilinear
Max Record Count: null
Max Image Height: 4100
Max Image Width: 15000
Max Download Image Count: null
Max Mosaic Image Count: null
Allow Raster Function: true
Allow Copy: true
Allow Analysis: true
Allow Compute TiePoints: false
Supports Statistics: false
Supports Advanced Queries: false
Use StandardizedQueries: true
Raster Type Infos:
Name: Raster Dataset
Description: Supports all ArcGIS Raster Datasets
Help:
Has Raster Attribute Table: false
Edit Fields Info: null
Ownership Based AccessControl For Rasters: null
Child Resources:
Info
Histograms
Statistics
Key Properties
Legend
Raster Function Infos
Supported Operations:
Export Image
Identify
Measure
Compute Histograms
Compute Statistics Histograms
Get Samples
Compute Class Statistics
Query Boundary
Compute Pixel Location
Compute Angles
Validate
Project