View In:
ArcGIS JavaScript
ArcGIS Online Map Viewer
ArcGIS Earth
Service Description: ER/FEMA_SWEL_10PCT
Name: ER/FEMA_SWEL_10PCT
Description:
Single Fused Map Cache: false
Extent:
XMin: -87.58861930799998
YMin: 23.25776667007117
XMax: -77.59794780575366
YMax: 30.797837728000044
Spatial Reference: 4326
(4326)
LatestVCSWkid(0)
Initial Extent:
XMin: -87.58861930799998
YMin: 23.25776667007117
XMax: -77.59794780575366
YMax: 30.797837728000044
Spatial Reference: 4326
(4326)
LatestVCSWkid(0)
Full Extent:
XMin: -87.58861930799998
YMin: 23.25776667007117
XMax: -77.59794780575366
YMax: 30.797837728000044
Spatial Reference: 4326
(4326)
LatestVCSWkid(0)
Pixel Size X: 2.7380704621372272E-5
Pixel Size Y: 2.738070462137227E-5
Band Count: 1
Pixel Type: F32
RasterFunction Infos: {"rasterFunctionInfos": [{
"name": "None",
"description": "",
"help": ""
}]}
Mensuration Capabilities: Basic
Has Histograms: true
Has Colormap: false
Has Multi Dimensions : false
Rendering Rule:
Min Scale: 0
Max Scale: 0
Copyright Text:
Service Data Type: esriImageServiceDataTypeGeneric
Min Values: -38.990338668227196
Max Values: 33.5701497644186
Mean Values: 0.995024104536715
Standard Deviation Values: 3.014090365344777
Object ID Field:
Fields:
None
Default Mosaic Method: Center
Allowed Mosaic Methods:
SortField:
SortValue: null
Mosaic Operator: First
Default Compression Quality: 75
Default Resampling Method: Bilinear
Max Record Count: null
Max Image Height: 4100
Max Image Width: 15000
Max Download Image Count: null
Max Mosaic Image Count: null
Allow Raster Function: true
Allow Copy: true
Allow Analysis: true
Allow Compute TiePoints: false
Supports Statistics: false
Supports Advanced Queries: false
Use StandardizedQueries: true
Raster Type Infos:
Name: Raster Dataset
Description: Supports all ArcGIS Raster Datasets
Help:
Has Raster Attribute Table: false
Edit Fields Info: null
Ownership Based AccessControl For Rasters: null
Child Resources:
Info
Histograms
Statistics
Key Properties
Legend
Raster Function Infos
Supported Operations:
Export Image
Identify
Measure
Compute Histograms
Compute Statistics Histograms
Get Samples
Compute Class Statistics
Query Boundary
Compute Pixel Location
Compute Angles
Validate
Project