View In:
ArcGIS JavaScript
ArcGIS Online Map Viewer
ArcGIS Earth
Service Description: ER/FEMA_SWEL_2PCT
Name: ER/FEMA_SWEL_2PCT
Description:
Single Fused Map Cache: false
Extent:
XMin: -87.58862290599996
YMin: 23.25776386307117
XMax: -77.59792402304902
YMax: 30.797834921000042
Spatial Reference: 4326
(4326)
LatestVCSWkid(0)
Initial Extent:
XMin: -87.58862290599996
YMin: 23.25776386307117
XMax: -77.59792402304902
YMax: 30.797834921000042
Spatial Reference: 4326
(4326)
LatestVCSWkid(0)
Full Extent:
XMin: -87.58862290599996
YMin: 23.25776386307117
XMax: -77.59792402304902
YMax: 30.797834921000042
Spatial Reference: 4326
(4326)
LatestVCSWkid(0)
Pixel Size X: 2.7380704621372275E-5
Pixel Size Y: 2.738070462137227E-5
Band Count: 1
Pixel Type: F32
RasterFunction Infos: {"rasterFunctionInfos": [{
"name": "None",
"description": "",
"help": ""
}]}
Mensuration Capabilities: Basic
Has Histograms: true
Has Colormap: false
Has Multi Dimensions : false
Rendering Rule:
Min Scale: 0
Max Scale: 0
Copyright Text:
Service Data Type: esriImageServiceDataTypeGeneric
Min Values: -0.2663240134716034
Max Values: 32.966529846191406
Mean Values: 7.403353850178653
Standard Deviation Values: 2.287909195063458
Object ID Field:
Fields:
None
Default Mosaic Method: Center
Allowed Mosaic Methods:
SortField:
SortValue: null
Mosaic Operator: First
Default Compression Quality: 75
Default Resampling Method: Bilinear
Max Record Count: null
Max Image Height: 4100
Max Image Width: 15000
Max Download Image Count: null
Max Mosaic Image Count: null
Allow Raster Function: true
Allow Copy: true
Allow Analysis: true
Allow Compute TiePoints: false
Supports Statistics: false
Supports Advanced Queries: false
Use StandardizedQueries: true
Raster Type Infos:
Name: Raster Dataset
Description: Supports all ArcGIS Raster Datasets
Help:
Has Raster Attribute Table: false
Edit Fields Info: null
Ownership Based AccessControl For Rasters: null
Child Resources:
Info
Histograms
Statistics
Key Properties
Legend
Raster Function Infos
Supported Operations:
Export Image
Identify
Measure
Compute Histograms
Compute Statistics Histograms
Get Samples
Compute Class Statistics
Query Boundary
Compute Pixel Location
Compute Angles
Validate
Project