View In:
ArcGIS JavaScript
ArcGIS Online Map Viewer
ArcGIS Earth
Service Description: FDOT_Yearly_Aerials/Aerial_Imagery_2009
Name: FDOT_Yearly_Aerials/Aerial_Imagery_2009
Description:
Single Fused Map Cache: false
Extent:
XMin: 203287.71499999985
YMin: 59902.07300896617
XMax: 791651.7993281686
YMax: 778347.5899
Spatial Reference: 3087
(3087)
LatestVCSWkid(0)
Initial Extent:
XMin: 203287.71499999985
YMin: 59902.07300896617
XMax: 791651.7993281686
YMax: 778347.5899
Spatial Reference: 3087
(3087)
LatestVCSWkid(0)
Full Extent:
XMin: 203287.71499999985
YMin: 59902.07300896617
XMax: 791651.7993281686
YMax: 778347.5899
Spatial Reference: 3087
(3087)
LatestVCSWkid(0)
Pixel Size X: 0.15240030480060962
Pixel Size Y: 0.15240030480060962
Band Count: 3
Pixel Type: U8
RasterFunction Infos: {"rasterFunctionInfos": [{
"name": "None",
"description": "A No-Op Function.",
"help": ""
}]}
Mensuration Capabilities: None
Has Histograms: true
Has Colormap: false
Has Multi Dimensions : false
Rendering Rule:
Min Scale: 0
Max Scale: 0
Copyright Text:
Service Data Type: esriImageServiceDataTypeRGB
Min Values: 0, 0, 6
Max Values: 255, 255, 255
Mean Values: 91.93725251294548, 99.88264798456696, 88.85630351643145
Standard Deviation Values: 29.35781455316581, 27.749817920644396, 25.47834471538157
Object ID Field: OBJECTID
Fields:
-
OBJECTID
(
type: esriFieldTypeOID, alias: OBJECTID
)
-
Shape
(
type: esriFieldTypeGeometry, alias: Shape
)
-
Name
(
type: esriFieldTypeString, alias: Name, length: 200
)
-
MinPS
(
type: esriFieldTypeDouble, alias: MinPS
)
-
Category
(
type: esriFieldTypeInteger, alias: Category
, Coded Values:
[0: Unknown]
, [1: Primary]
, [2: Overview]
, ...5 more...
)
-
YEAR
(
type: esriFieldTypeSmallInteger, alias: YEAR
)
-
START_DATE
(
type: esriFieldTypeDate, alias: START_DATE, length: 8
)
-
END_DATE
(
type: esriFieldTypeDate, alias: END_DATE, length: 8
)
-
DATASET_ID
(
type: esriFieldTypeString, alias: DATASET_ID, length: 20
)
-
SOURCE
(
type: esriFieldTypeString, alias: SOURCE, length: 20
)
-
SENSOR
(
type: esriFieldTypeString, alias: SENSOR, length: 20
)
Default Mosaic Method: Center
Allowed Mosaic Methods: Center,NorthWest,ByAttribute
SortField:
SortValue: null
Mosaic Operator: First
Default Compression Quality: 75
Default Resampling Method: Bilinear
Max Record Count: 1000
Max Image Height: 4100
Max Image Width: 15000
Max Download Image Count: 20
Max Mosaic Image Count: 20
Allow Raster Function: true
Allow Copy: true
Allow Analysis: true
Allow Compute TiePoints: false
Supports Statistics: true
Supports Advanced Queries: true
Use StandardizedQueries: true
Raster Type Infos:
Name: Raster Dataset
Description: Supports all ArcGIS Raster Datasets
Help:
Has Raster Attribute Table: false
Edit Fields Info: null
Ownership Based AccessControl For Rasters: null
Child Resources:
Info
Histograms
Statistics
Key Properties
Legend
Raster Function Infos
Supported Operations:
Export Image
Query
Identify
Compute Histograms
Compute Statistics Histograms
Get Samples
Compute Class Statistics
Query Boundary
Compute Pixel Location
Compute Angles
Validate
Project