View In:
ArcGIS JavaScript
ArcGIS Online Map Viewer
ArcGIS Earth
Service Description: FDOT_Yearly_Aerials/Aerial_Imagery_2010
Name: FDOT_Yearly_Aerials/Aerial_Imagery_2010
Description:
Single Fused Map Cache: false
Extent:
XMin: 51140.65799999982
YMin: 302096.17040833115
XMax: 632841.3438013715
YMax: 781692.0048
Spatial Reference: 3087
(3087)
LatestVCSWkid(0)
Initial Extent:
XMin: 51140.65799999982
YMin: 302096.17040833115
XMax: 632841.3438013715
YMax: 781692.0048
Spatial Reference: 3087
(3087)
LatestVCSWkid(0)
Full Extent:
XMin: 51140.65799999982
YMin: 302096.17040833115
XMax: 632841.3438013715
YMax: 781692.0048
Spatial Reference: 3087
(3087)
LatestVCSWkid(0)
Pixel Size X: 0.30480060960121924
Pixel Size Y: 0.30480060960121924
Band Count: 3
Pixel Type: U8
RasterFunction Infos: {"rasterFunctionInfos": [{
"name": "None",
"description": "A No-Op Function.",
"help": ""
}]}
Mensuration Capabilities: Basic
Has Histograms: true
Has Colormap: false
Has Multi Dimensions : false
Rendering Rule:
Min Scale: 0
Max Scale: 0
Copyright Text:
Service Data Type: esriImageServiceDataTypeRGB
Min Values: 0, 15, 16
Max Values: 247, 244, 237
Mean Values: 87.80479064590912, 100.67268537546116, 91.00416999542867
Standard Deviation Values: 24.344669367866814, 20.848961740340744, 16.973562182670964
Object ID Field: OBJECTID
Fields:
-
OBJECTID
(
type: esriFieldTypeOID, alias: OBJECTID
)
-
Shape
(
type: esriFieldTypeGeometry, alias: Shape
)
-
Name
(
type: esriFieldTypeString, alias: Name, length: 200
)
-
LowPS
(
type: esriFieldTypeDouble, alias: LowPS
)
-
Category
(
type: esriFieldTypeInteger, alias: Category
, Coded Values:
[0: Unknown]
, [1: Primary]
, [2: Overview]
, ...6 more...
)
Default Mosaic Method: Center
Allowed Mosaic Methods: Center,NorthWest,LockRaster,ByAttribute
SortField:
SortValue: null
Mosaic Operator: First
Default Compression Quality: 75
Default Resampling Method: Bilinear
Max Record Count: 1000
Max Image Height: 4100
Max Image Width: 15000
Max Download Image Count: 20
Max Mosaic Image Count: 20
Allow Raster Function: true
Allow Copy: true
Allow Analysis: true
Allow Compute TiePoints: false
Supports Statistics: true
Supports Advanced Queries: true
Use StandardizedQueries: true
Raster Type Infos:
Name: Raster Dataset
Description: Supports all ArcGIS Raster Datasets
Help:
Has Raster Attribute Table: false
Edit Fields Info: null
Ownership Based AccessControl For Rasters: null
Child Resources:
Info
Histograms
Statistics
Key Properties
Legend
Raster Function Infos
Supported Operations:
Export Image
Query
Identify
Measure
Compute Histograms
Compute Statistics Histograms
Get Samples
Compute Class Statistics
Query Boundary
Compute Pixel Location
Compute Angles
Validate
Project