View In:
ArcGIS JavaScript
ArcGIS Online Map Viewer
ArcGIS Earth
Service Description: FDOT_Yearly_Aerials/Aerial_Imagery_2016
Name: FDOT_Yearly_Aerials/Aerial_Imagery_2016
Description:
Single Fused Map Cache: false
Extent:
XMin: 51140.66039999947
YMin: 129538.62095287093
XMax: 789906.1671206926
YMax: 783216.7515000002
Spatial Reference: 3087
(3087)
LatestVCSWkid(0)
Initial Extent:
XMin: 51140.66039999947
YMin: 129538.62095287093
XMax: 789906.1671206926
YMax: 783216.7515000002
Spatial Reference: 3087
(3087)
LatestVCSWkid(0)
Full Extent:
XMin: 51140.66039999947
YMin: 129538.62095287093
XMax: 789906.1671206926
YMax: 783216.7515000002
Spatial Reference: 3087
(3087)
LatestVCSWkid(0)
Pixel Size X: 0.0762001523992403
Pixel Size Y: 0.0762001523992403
Band Count: 3
Pixel Type: U8
RasterFunction Infos: {"rasterFunctionInfos": [{
"name": "None",
"description": "A No-Op Function.",
"help": ""
}]}
Mensuration Capabilities: None
Has Histograms: true
Has Colormap: false
Has Multi Dimensions : false
Rendering Rule:
Min Scale: 0
Max Scale: 0
Copyright Text:
Service Data Type: esriImageServiceDataTypeRGB
Min Values: 0, 0, 0
Max Values: 255, 255, 255
Mean Values: 88.46038879926684, 94.33477286565272, 80.4034247478203
Standard Deviation Values: 30.672106903241268, 25.617076143898636, 23.245149008534224
Object ID Field: OBJECTID
Fields:
-
OBJECTID
(
type: esriFieldTypeOID, alias: OBJECTID
)
-
Shape
(
type: esriFieldTypeGeometry, alias: Shape
)
-
Name
(
type: esriFieldTypeString, alias: Name, length: 200
)
-
LowPS
(
type: esriFieldTypeDouble, alias: LowPS
)
-
Category
(
type: esriFieldTypeInteger, alias: Category
, Coded Values:
[0: Unknown]
, [1: Primary]
, [2: Overview]
, ...5 more...
)
-
DATASET_ID
(
type: esriFieldTypeString, alias: DATASET_ID, length: 50
)
-
START_DATE
(
type: esriFieldTypeString, alias: START_DATE, length: 50
)
-
END_DATE
(
type: esriFieldTypeString, alias: END_DATE, length: 50
)
-
SENSOR
(
type: esriFieldTypeString, alias: SENSOR, length: 50
)
-
SOURCE
(
type: esriFieldTypeString, alias: SOURCE, length: 50
)
-
YEAR
(
type: esriFieldTypeString, alias: YEAR, length: 50
)
Default Mosaic Method: Center
Allowed Mosaic Methods: Center,NorthWest,LockRaster,ByAttribute
SortField:
SortValue: null
Mosaic Operator: First
Default Compression Quality: 75
Default Resampling Method: Bilinear
Max Record Count: 1000
Max Image Height: 4100
Max Image Width: 15000
Max Download Image Count: 20
Max Mosaic Image Count: 20
Allow Raster Function: true
Allow Copy: true
Allow Analysis: true
Allow Compute TiePoints: false
Supports Statistics: true
Supports Advanced Queries: true
Use StandardizedQueries: true
Raster Type Infos:
Name: Raster Dataset
Description: Supports all ArcGIS Raster Datasets
Help:
Has Raster Attribute Table: false
Edit Fields Info: null
Ownership Based AccessControl For Rasters: null
Child Resources:
Info
Histograms
Statistics
Key Properties
Legend
Raster Function Infos
Supported Operations:
Export Image
Query
Identify
Compute Histograms
Compute Statistics Histograms
Get Samples
Compute Class Statistics
Query Boundary
Compute Pixel Location
Compute Angles
Validate
Project