View In:
ArcGIS JavaScript
ArcGIS Online Map Viewer
ArcGIS Earth
Service Description: FDOT_Yearly_Aerials/Aerial_Imagery_2019
Name: FDOT_Yearly_Aerials/Aerial_Imagery_2019
Description:
Single Fused Map Cache: false
Extent:
XMin: 51140.65799999982
YMin: 204379.0761741423
XMax: 795282.5426837693
YMax: 781692.0047999996
Spatial Reference: 3087
(3087)
LatestVCSWkid(0)
Initial Extent:
XMin: 51140.65799999982
YMin: 204379.0761741423
XMax: 795282.5426837693
YMax: 781692.0047999996
Spatial Reference: 3087
(3087)
LatestVCSWkid(0)
Full Extent:
XMin: 51140.65799999982
YMin: 204379.0761741423
XMax: 795282.5426837693
YMax: 781692.0047999996
Spatial Reference: 3087
(3087)
LatestVCSWkid(0)
Pixel Size X: 0.07620015240030481
Pixel Size Y: 0.07620015240030481
Band Count: 3
Pixel Type: U8
RasterFunction Infos: {"rasterFunctionInfos": [{
"name": "None",
"description": "Make a Raster or Raster Dataset into a Function Raster Dataset.",
"help": ""
}]}
Mensuration Capabilities: Basic
Has Histograms: true
Has Colormap: false
Has Multi Dimensions : false
Rendering Rule:
Min Scale: 0
Max Scale: 0
Copyright Text:
Service Data Type: esriImageServiceDataTypeRGB
Min Values: 0, 0, 0
Max Values: 255, 255, 255
Mean Values: 85.74946000104194, 86.66818039868926, 72.31586035496787
Standard Deviation Values: 30.133195632539724, 26.698853358517063, 25.99609636184413
Object ID Field: OBJECTID
Fields:
-
OBJECTID
(
type: esriFieldTypeOID, alias: OBJECTID
)
-
Shape
(
type: esriFieldTypeGeometry, alias: Shape
)
-
Name
(
type: esriFieldTypeString, alias: Name, length: 200
)
-
MinPS
(
type: esriFieldTypeDouble, alias: MinPS
)
-
MaxPS
(
type: esriFieldTypeDouble, alias: MaxPS
)
-
Category
(
type: esriFieldTypeInteger, alias: Category
, Coded Values:
[0: Unknown]
, [1: Primary]
, [2: Overview]
, ...6 more...
)
-
DATASET_ID
(
type: esriFieldTypeString, alias: DATASET_ID, length: 50
)
-
START_DATE
(
type: esriFieldTypeString, alias: START_DATE, length: 50
)
-
END_DATE
(
type: esriFieldTypeString, alias: END_DATE, length: 50
)
-
SOURCE
(
type: esriFieldTypeString, alias: SOURCE, length: 50
)
-
YEAR
(
type: esriFieldTypeSmallInteger, alias: YEAR
)
-
SENSOR
(
type: esriFieldTypeString, alias: SENSOR, length: 50
)
Default Mosaic Method: Center
Allowed Mosaic Methods: Center,NorthWest,LockRaster,ByAttribute
SortField:
SortValue: null
Mosaic Operator: First
Default Compression Quality: 75
Default Resampling Method: Bilinear
Max Record Count: 1000
Max Image Height: 4100
Max Image Width: 15000
Max Download Image Count: 20
Max Mosaic Image Count: 42
Allow Raster Function: true
Allow Copy: true
Allow Analysis: true
Allow Compute TiePoints: false
Supports Statistics: true
Supports Advanced Queries: true
Use StandardizedQueries: true
Raster Type Infos:
Name: Raster Dataset
Description: Supports all ArcGIS Raster Datasets
Help:
Has Raster Attribute Table: false
Edit Fields Info: null
Ownership Based AccessControl For Rasters: null
Child Resources:
Info
Histograms
Statistics
Key Properties
Legend
Raster Function Infos
Supported Operations:
Export Image
Query
Identify
Measure
Compute Histograms
Compute Statistics Histograms
Get Samples
Compute Class Statistics
Query Boundary
Compute Pixel Location
Compute Angles
Validate
Project