View In:
ArcGIS JavaScript
ArcGIS Online Map Viewer
ArcGIS Earth
Service Description: FDOT_Yearly_Aerials/Aerial_Imagery_2021
Name: FDOT_Yearly_Aerials/Aerial_Imagery_2021
Description:
Single Fused Map Cache: false
Extent:
XMin: 331100.6805999987
YMin: 116816.7413684855
XMax: 795282.8243642808
YMax: 760382.5020999996
Spatial Reference: 102967
(6439)
LatestVCSWkid(0)
Initial Extent:
XMin: 331100.6805999987
YMin: 116816.7413684855
XMax: 795282.8243642808
YMax: 760382.5020999996
Spatial Reference: 102967
(6439)
LatestVCSWkid(0)
Full Extent:
XMin: 331100.6805999987
YMin: 116816.7413684855
XMax: 795282.8243642808
YMax: 760382.5020999996
Spatial Reference: 102967
(6439)
LatestVCSWkid(0)
Pixel Size X: 0.07620015240030391
Pixel Size Y: 0.07620015240030392
Band Count: 3
Pixel Type: U8
RasterFunction Infos: {"rasterFunctionInfos": [{
"name": "None",
"description": "A No-Op Function.",
"help": ""
}]}
Mensuration Capabilities: NONE,Basic
Has Histograms: true
Has Colormap: false
Has Multi Dimensions : false
Rendering Rule:
Min Scale: 0
Max Scale: 0
Copyright Text:
Service Data Type: esriImageServiceDataTypeRGB
Min Values: 8, 9, 2
Max Values: 239, 236, 233
Mean Values: 74.16360949629647, 78.76903056486287, 59.26158817221474
Standard Deviation Values: 22.55661727747545, 21.33432417856743, 19.281255370424955
Object ID Field: OBJECTID
Fields:
-
OBJECTID
(
type: esriFieldTypeOID, alias: OBJECTID
)
-
Shape
(
type: esriFieldTypeGeometry, alias: Shape
)
-
Name
(
type: esriFieldTypeString, alias: Name, length: 200
)
-
LowPS
(
type: esriFieldTypeDouble, alias: LowPS
)
-
Category
(
type: esriFieldTypeInteger, alias: Category
, Coded Values:
[0: Unknown]
, [1: Primary]
, [2: Overview]
, ...6 more...
)
-
START_DATE
(
type: esriFieldTypeDate, alias: START_DATE, length: 8
)
-
END_DATE
(
type: esriFieldTypeDate, alias: END_DATE, length: 8
)
-
DATASET_ID
(
type: esriFieldTypeString, alias: DATASET_ID, length: 255
)
-
YEAR
(
type: esriFieldTypeString, alias: YEAR, length: 255
)
Default Mosaic Method: Center
Allowed Mosaic Methods: Center,NorthWest,LockRaster,ByAttribute,Nadir,Viewpoint,Seamline,None
SortField:
SortValue: null
Mosaic Operator: First
Default Compression Quality: 75
Default Resampling Method: Bilinear
Max Record Count: 1000
Max Image Height: 4100
Max Image Width: 15000
Max Download Image Count: 20
Max Mosaic Image Count: 42
Allow Raster Function: true
Allow Copy: true
Allow Analysis: true
Allow Compute TiePoints: false
Supports Statistics: true
Supports Advanced Queries: true
Use StandardizedQueries: true
Raster Type Infos:
Name: Raster Dataset
Description: Supports all ArcGIS Raster Datasets
Help:
Has Raster Attribute Table: false
Edit Fields Info: null
Ownership Based AccessControl For Rasters: null
Child Resources:
Info
Histograms
Statistics
Key Properties
Legend
Raster Function Infos
Supported Operations:
Export Image
Query
Identify
Measure
Compute Histograms
Compute Statistics Histograms
Get Samples
Compute Class Statistics
Query Boundary
Compute Pixel Location
Compute Angles
Validate
Project