View In:
ArcGIS JavaScript
ArcGIS Online Map Viewer
ArcGIS Earth
Service Description: FGS/FGS_Spring_Inventory_Rectified_1959_Boatramp_tif
Name: FGS/FGS_Spring_Inventory_Rectified_1959_Boatramp_tif
Description:
Single Fused Map Cache: false
Extent:
XMin: -83.75517890311426
YMin: 29.937586530277386
XMax: -83.70301490311425
YMax: 29.982370530277386
Spatial Reference: 4326
(4326)
LatestVCSWkid(0)
Initial Extent:
XMin: -83.75517890311426
YMin: 29.937586530277386
XMax: -83.70301490311425
YMax: 29.982370530277386
Spatial Reference: 4326
(4326)
LatestVCSWkid(0)
Full Extent:
XMin: -83.75517890311426
YMin: 29.937586530277386
XMax: -83.70301490311425
YMax: 29.982370530277386
Spatial Reference: 4326
(4326)
LatestVCSWkid(0)
Pixel Size X: 9.000000000000822E-6
Pixel Size Y: 8.999999999999987E-6
Band Count: 1
Pixel Type: U32
RasterFunction Infos: {"rasterFunctionInfos": [{
"name": "None",
"description": "",
"help": ""
}]}
Mensuration Capabilities: Basic
Has Histograms: true
Has Colormap: false
Has Multi Dimensions : false
Rendering Rule:
Min Scale: 0
Max Scale: 0
Copyright Text:
Service Data Type: esriImageServiceDataTypeGeneric
Min Values: 31
Max Values: 247
Mean Values: 121.54526372821
Standard Deviation Values: 27.216830059002
Object ID Field:
Fields:
None
Default Mosaic Method: Center
Allowed Mosaic Methods:
SortField:
SortValue: null
Mosaic Operator: First
Default Compression Quality: 75
Default Resampling Method: Bilinear
Max Record Count: null
Max Image Height: 4100
Max Image Width: 15000
Max Download Image Count: null
Max Mosaic Image Count: null
Allow Raster Function: true
Allow Copy: true
Allow Analysis: true
Allow Compute TiePoints: false
Supports Statistics: false
Supports Advanced Queries: false
Use StandardizedQueries: true
Raster Type Infos:
Name: Raster Dataset
Description: Supports all ArcGIS Raster Datasets
Help:
Has Raster Attribute Table: false
Edit Fields Info: null
Ownership Based AccessControl For Rasters: null
Child Resources:
Info
Histograms
Statistics
Key Properties
Legend
Raster Function Infos
Supported Operations:
Export Image
Identify
Measure
Compute Histograms
Compute Statistics Histograms
Get Samples
Compute Class Statistics
Query Boundary
Compute Pixel Location
Compute Angles
Validate
Project