View In:
ArcGIS JavaScript
ArcGIS Online Map Viewer
ArcGIS Earth
Service Description: A DOQQ is a computer generated image of an aerial photograph in which displacements caused by camera orientation and terrain have been removed. Orthophotos combine the image characteristics of a photograph with the geometric qualities of a map. The primary digital orthophotoquad (DOQ) is a 1-meter ground resolution, quarter-quadrangle (3.75-minutes of latitude by 3.75-minutes of longitude) image cast on the Universal Transverse Mercator Projection (UTM) on the North American Datum of 1983 (NAD83).The geographic extent of the DOQ is equivalent to a quarter-quad plus The overedge ranges a minimum of 50 meters to a maximum of 300 meters beyond the extremes of the primary and secondary corner points. This dataset was rebuilt in ArcGIS Image Server using MrSID imagery for the data source. The JPG imagery that was used for the 2004 DOQQ dataset in ArcSDE Raster was found to have inaccurate colors. This dataset has been built using ArcGIS Image Server instead of ArcSDE Raster for easier maintenance and improved performance. The imagery included in this layer is flown from 2003-2005
Name: MISC/DOQQ_2004
Description: A DOQQ is a computer generated image of an aerial photograph in which displacements caused by camera orientation and terrain have been removed. Orthophotos combine the image characteristics of a photograph with the geometric qualities of a map. The primary digital orthophotoquad (DOQ) is a 1-meter ground resolution, quarter-quadrangle (3.75-minutes of latitude by 3.75-minutes of longitude) image cast on the Universal Transverse Mercator Projection (UTM) on the North American Datum of 1983 (NAD83).The geographic extent of the DOQ is equivalent to a quarter-quad plus The overedge ranges a minimum of 50 meters to a maximum of 300 meters beyond the extremes of the primary and secondary corner points. This dataset was rebuilt in ArcGIS Image Server using MrSID imagery for the data source. The JPG imagery that was used for the 2004 DOQQ dataset in ArcSDE Raster was found to have inaccurate colors. This dataset has been built using ArcGIS Image Server instead of ArcSDE Raster for easier maintenance and improved performance. The imagery included in this layer is flown from 2003-2005
Single Fused Map Cache: false
Extent:
XMin: 47668.730867996695
YMin: 56742.30844177853
XMax: 798397.2605119748
YMax: 781721.0016530121
Spatial Reference: 3087
(3087)
LatestVCSWkid(0)
Initial Extent:
XMin: 47668.730867996695
YMin: 56742.30844177853
XMax: 798397.2605119748
YMax: 781721.0016530121
Spatial Reference: 3087
(3087)
LatestVCSWkid(0)
Full Extent:
XMin: 47668.730867996695
YMin: 56742.30844177853
XMax: 798397.2605119748
YMax: 781721.0016530121
Spatial Reference: 3087
(3087)
LatestVCSWkid(0)
Pixel Size X: 0.999566648528572
Pixel Size Y: 0.999566648528572
Band Count: 3
Pixel Type: U8
RasterFunction Infos: {"rasterFunctionInfos": [{
"name": "None",
"description": "",
"help": ""
}]}
Mensuration Capabilities: None
Has Histograms: true
Has Colormap: false
Has Multi Dimensions : false
Rendering Rule:
Min Scale: 0
Max Scale: 0
Copyright Text:
Service Data Type: esriImageServiceDataTypeRGB
Min Values: 0, 0, 0
Max Values: 255, 255, 242
Mean Values: 89.03100298149892, 94.99069351112632, 87.49540599064086
Standard Deviation Values: 32.70617326796999, 28.391173986672165, 24.054842136634843
Object ID Field: OBJECTID
Fields:
-
OBJECTID
(
type: esriFieldTypeOID, alias: OBJECTID
)
-
Shape
(
type: esriFieldTypeGeometry, alias: Shape
)
-
Name
(
type: esriFieldTypeString, alias: Name, length: 50
)
-
MinPS
(
type: esriFieldTypeDouble, alias: MinPS
)
-
MaxPS
(
type: esriFieldTypeDouble, alias: MaxPS
)
-
LowPS
(
type: esriFieldTypeDouble, alias: LowPS
)
-
HighPS
(
type: esriFieldTypeDouble, alias: HighPS
)
-
Category
(
type: esriFieldTypeInteger, alias: Category
, Coded Values:
[0: Unknown]
, [1: Primary]
, [2: Overview]
, ...5 more...
)
-
Tag
(
type: esriFieldTypeString, alias: Tag, length: 20
)
-
GroupName
(
type: esriFieldTypeString, alias: GroupName, length: 50
)
-
ProductName
(
type: esriFieldTypeString, alias: ProductName, length: 50
)
-
CenterX
(
type: esriFieldTypeDouble, alias: CenterX
)
-
CenterY
(
type: esriFieldTypeDouble, alias: CenterY
)
-
ZOrder
(
type: esriFieldTypeInteger, alias: ZOrder
)
-
Shape_Length
(
type: esriFieldTypeDouble, alias: Shape_Length
)
-
Shape_Area
(
type: esriFieldTypeDouble, alias: Shape_Area
)
Default Mosaic Method: Northwest
Allowed Mosaic Methods: NorthWest,Center,LockRaster,ByAttribute,Nadir,Viewpoint,Seamline,None
SortField:
SortValue: null
Mosaic Operator: First
Default Compression Quality: 75
Default Resampling Method: Bilinear
Max Record Count: 1000
Max Image Height: 4100
Max Image Width: 15000
Max Download Image Count: 20
Max Mosaic Image Count: 20
Allow Raster Function: true
Allow Copy: true
Allow Analysis: true
Allow Compute TiePoints: false
Supports Statistics: true
Supports Advanced Queries: true
Use StandardizedQueries: true
Raster Type Infos:
Name: Raster Dataset
Description: Supports all ArcGIS Raster Datasets
Help:
Has Raster Attribute Table: false
Edit Fields Info: null
Ownership Based AccessControl For Rasters: null
Child Resources:
Info
Histograms
Statistics
Key Properties
Legend
Raster Function Infos
Supported Operations:
Export Image
Query
Identify
Compute Histograms
Compute Statistics Histograms
Get Samples
Compute Class Statistics
Query Boundary
Compute Pixel Location
Compute Angles
Validate
Project