View In:
ArcGIS JavaScript
ArcGIS Online Map Viewer
ArcGIS Earth
Service Description: Digital Elevation Model for the State of Florida
Name: MISC/Digital_Elevation_Model_2009
Description: Digital Elevation Model for the State of Florida
Single Fused Map Cache: false
Extent:
XMin: 52230.38360120309
YMin: 48083.28636332217
XMax: 800130.3836012031
YMax: 801158.2863633222
Spatial Reference: 3087
(3087)
LatestVCSWkid(0)
Initial Extent:
XMin: 52230.38360120309
YMin: 48083.28636332217
XMax: 800130.3836012031
YMax: 801158.2863633222
Spatial Reference: 3087
(3087)
LatestVCSWkid(0)
Full Extent:
XMin: 52230.38360120309
YMin: 48083.28636332217
XMax: 800130.3836012031
YMax: 801158.2863633222
Spatial Reference: 3087
(3087)
LatestVCSWkid(0)
Pixel Size X: 15.0
Pixel Size Y: 15.0
Band Count: 1
Pixel Type: S32
RasterFunction Infos: {"rasterFunctionInfos": [{
"name": "None",
"description": "A No-Op Function.",
"help": ""
}]}
Mensuration Capabilities: Basic
Has Histograms: true
Has Colormap: false
Has Multi Dimensions : false
Rendering Rule:
Min Scale: 0
Max Scale: 0
Copyright Text: Advanced GeoSpatial Inc.
Service Data Type: esriImageServiceDataTypeGeneric
Min Values: 0
Max Values: 336
Mean Values: 60.346582997959146
Standard Deviation Values: 55.188809724318936
Object ID Field: OBJECTID
Fields:
-
OBJECTID
(
type: esriFieldTypeOID, alias: OBJECTID
)
-
Shape
(
type: esriFieldTypeGeometry, alias: Shape
)
-
Name
(
type: esriFieldTypeString, alias: Name, length: 50
)
-
MinPS
(
type: esriFieldTypeDouble, alias: MinPS
)
-
Category
(
type: esriFieldTypeInteger, alias: Category
, Coded Values:
[0: Unknown]
, [1: Primary]
, [2: Overview]
, ...5 more...
)
Default Mosaic Method: Center
Allowed Mosaic Methods: Center,NorthWest,ByAttribute
SortField:
SortValue: null
Mosaic Operator: First
Default Compression Quality: 75
Default Resampling Method: Bilinear
Max Record Count: 1000
Max Image Height: 4100
Max Image Width: 15000
Max Download Image Count: 20
Max Mosaic Image Count: 20
Allow Raster Function: true
Allow Copy: true
Allow Analysis: true
Allow Compute TiePoints: false
Supports Statistics: true
Supports Advanced Queries: true
Use StandardizedQueries: true
Raster Type Infos:
Name: Raster Dataset
Description: Supports all ArcGIS Raster Datasets
Help:
Has Raster Attribute Table: false
Edit Fields Info: null
Ownership Based AccessControl For Rasters: null
Child Resources:
Info
Histograms
Statistics
Key Properties
Legend
Raster Function Infos
Supported Operations:
Export Image
Query
Identify
Measure
Compute Histograms
Compute Statistics Histograms
Get Samples
Compute Class Statistics
Query Boundary
Compute Pixel Location
Compute Angles
Validate
Project