View In:
ArcGIS JavaScript
ArcGIS Online Map Viewer
ArcGIS Earth
Service Description: 1999 LandSat 7 imagery was obtained via contract from ImageLinks in Albers HPGN. The scenes were then subset by county using the county's X,Y extents. The individual counties were exported to GEOTIFF format, using a selection of three distinct bands to simulate a False Green (Bands 7,5,3) coloring. These TIF files were subsequently compressed using Mr.SID v1.3. The resulting SID images were placed into the FDEP Technical Service Library for usage. Using the cell values in this dataset for statistical analyses is not possible.
Name: MISC/False_Green
Description: 1999 LandSat 7 imagery was obtained via contract from ImageLinks in Albers HPGN. The scenes were then subset by county using the county's X,Y extents. The individual counties were exported to GEOTIFF format, using a selection of three distinct bands to simulate a False Green (Bands 7,5,3) coloring. These TIF files were subsequently compressed using Mr.SID v1.3. The resulting SID images were placed into the FDEP Technical Service Library for usage. Using the cell values in this dataset for statistical analyses is not possible.
Single Fused Map Cache: false
Extent:
XMin: 52555.00000000041
YMin: 121784.99999999907
XMax: 799344.9999999991
YMax: 781454.9999999979
Spatial Reference: 3087
(3087)
LatestVCSWkid(0)
Initial Extent:
XMin: 52555.00000000041
YMin: 121784.99999999907
XMax: 799344.9999999991
YMax: 781454.9999999979
Spatial Reference: 3087
(3087)
LatestVCSWkid(0)
Full Extent:
XMin: 52555.00000000041
YMin: 121784.99999999907
XMax: 799344.9999999991
YMax: 781454.9999999979
Spatial Reference: 3087
(3087)
LatestVCSWkid(0)
Pixel Size X: 29.999999999999943
Pixel Size Y: 29.999999999999947
Band Count: 3
Pixel Type: U8
RasterFunction Infos: {"rasterFunctionInfos": [{
"name": "None",
"description": "A No-Op Function.",
"help": ""
}]}
Mensuration Capabilities: Basic
Has Histograms: true
Has Colormap: false
Has Multi Dimensions : false
Rendering Rule:
Min Scale: 0
Max Scale: 0
Copyright Text: Florida Department of Environmental Protection
Service Data Type: esriImageServiceDataTypeRGB
Min Values: 24, 24, 46
Max Values: 255, 255, 255
Mean Values: 167.71251206796487, 167.316197280228, 162.24126279203878
Standard Deviation Values: 32.34035220810079, 48.159186872458335, 43.425093540920685
Object ID Field: OBJECTID
Fields:
-
OBJECTID
(
type: esriFieldTypeOID, alias: OBJECTID
)
-
Shape
(
type: esriFieldTypeGeometry, alias: Shape
)
-
Name
(
type: esriFieldTypeString, alias: Name, length: 200
)
-
MinPS
(
type: esriFieldTypeDouble, alias: MinPS
)
-
MaxPS
(
type: esriFieldTypeDouble, alias: MaxPS
)
-
LowPS
(
type: esriFieldTypeDouble, alias: LowPS
)
-
HighPS
(
type: esriFieldTypeDouble, alias: HighPS
)
-
Category
(
type: esriFieldTypeInteger, alias: Category
, Coded Values:
[0: Unknown]
, [1: Primary]
, [2: Overview]
, ...6 more...
)
-
Tag
(
type: esriFieldTypeString, alias: Tag, length: 100
)
-
GroupName
(
type: esriFieldTypeString, alias: GroupName, length: 100
)
-
ProductName
(
type: esriFieldTypeString, alias: ProductName, length: 100
)
-
CenterX
(
type: esriFieldTypeDouble, alias: CenterX
)
-
CenterY
(
type: esriFieldTypeDouble, alias: CenterY
)
-
ZOrder
(
type: esriFieldTypeInteger, alias: ZOrder
)
-
Shape_Length
(
type: esriFieldTypeDouble, alias: Shape_Length
)
-
Shape_Area
(
type: esriFieldTypeDouble, alias: Shape_Area
)
Default Mosaic Method: Northwest
Allowed Mosaic Methods: NorthWest,Center,LockRaster,ByAttribute
SortField:
SortValue: null
Mosaic Operator: First
Default Compression Quality: 75
Default Resampling Method: Bilinear
Max Record Count: 1000
Max Image Height: 4100
Max Image Width: 15000
Max Download Image Count: 20
Max Mosaic Image Count: 20
Allow Raster Function: true
Allow Copy: true
Allow Analysis: true
Allow Compute TiePoints: false
Supports Statistics: true
Supports Advanced Queries: true
Use StandardizedQueries: true
Raster Type Infos:
Name: Raster Dataset
Description: Supports all ArcGIS Raster Datasets
Help:
Has Raster Attribute Table: false
Edit Fields Info: null
Ownership Based AccessControl For Rasters: null
Child Resources:
Info
Histograms
Statistics
Key Properties
Legend
Raster Function Infos
Supported Operations:
Export Image
Query
Identify
Measure
Compute Histograms
Compute Statistics Histograms
Get Samples
Compute Class Statistics
Query Boundary
Compute Pixel Location
Compute Angles
Validate
Project