View In:
ArcGIS JavaScript
ArcGIS Online Map Viewer
ArcGIS Earth
Service Description: Collection of high resolution imagery {1-3 ft} from 1996-2003, mostly 2002 1 ft resolution. See entity attributes citation for details on performing spatial queries on this data
Name: MISC/Hi_Res
Description: Collection of high resolution imagery {1-3 ft} from 1996-2003, mostly 2002 1 ft resolution. See entity attributes citation for details on performing spatial queries on this data
Single Fused Map Cache: false
Extent:
XMin: 52795.612122668244
YMin: 59433.30433617474
XMax: 794796.5621226509
YMax: 783433.9168361579
Spatial Reference: 3087
(3087)
LatestVCSWkid(0)
Initial Extent:
XMin: 52795.612122668244
YMin: 59433.30433617474
XMax: 794796.5621226509
YMax: 783433.9168361579
Spatial Reference: 3087
(3087)
LatestVCSWkid(0)
Full Extent:
XMin: 52795.612122668244
YMin: 59433.30433617474
XMax: 794796.5621226509
YMax: 783433.9168361579
Spatial Reference: 3087
(3087)
LatestVCSWkid(0)
Pixel Size X: 0.3812499999999911
Pixel Size Y: 0.38124999999999115
Band Count: 3
Pixel Type: U8
RasterFunction Infos: {"rasterFunctionInfos": [{
"name": "None",
"description": "",
"help": ""
}]}
Mensuration Capabilities: None
Has Histograms: true
Has Colormap: false
Has Multi Dimensions : false
Rendering Rule:
Min Scale: 0
Max Scale: 0
Copyright Text:
Service Data Type: esriImageServiceDataTypeRGB
Min Values: 0, 0, 0
Max Values: 255, 255, 255
Mean Values: 95.41174657576467, 97.38944435540542, 94.87356527313747
Standard Deviation Values: 40.82671694634776, 41.06200084004945, 40.675482222638514
Object ID Field: OBJECTID
Fields:
-
OBJECTID
(
type: esriFieldTypeOID, alias: OBJECTID
)
-
Shape
(
type: esriFieldTypeGeometry, alias: Shape
)
-
Name
(
type: esriFieldTypeString, alias: Name, length: 50
)
-
MinPS
(
type: esriFieldTypeDouble, alias: MinPS
)
-
Category
(
type: esriFieldTypeInteger, alias: Category
, Coded Values:
[0: Unknown]
, [1: Primary]
, [2: Overview]
, ...5 more...
)
Default Mosaic Method: Center
Allowed Mosaic Methods: Center,NorthWest,ByAttribute
SortField:
SortValue: null
Mosaic Operator: First
Default Compression Quality: 75
Default Resampling Method: Bilinear
Max Record Count: 1000
Max Image Height: 4100
Max Image Width: 15000
Max Download Image Count: 20
Max Mosaic Image Count: 20
Allow Raster Function: true
Allow Copy: true
Allow Analysis: true
Allow Compute TiePoints: false
Supports Statistics: true
Supports Advanced Queries: true
Use StandardizedQueries: true
Raster Type Infos:
Name: Raster Dataset
Description: Supports all ArcGIS Raster Datasets
Help:
Has Raster Attribute Table: false
Edit Fields Info: null
Ownership Based AccessControl For Rasters: null
Child Resources:
Info
Histograms
Statistics
Key Properties
Legend
Raster Function Infos
Supported Operations:
Export Image
Query
Identify
Compute Histograms
Compute Statistics Histograms
Get Samples
Compute Class Statistics
Query Boundary
Compute Pixel Location
Compute Angles
Validate
Project