View In:
ArcGIS JavaScript
ArcGIS Online Map Viewer
ArcGIS Earth
Service Description: MISC/NOAA_Land_Cover_Impervious_Cover_2020_2021
Name: MISC/NOAA_Land_Cover_Impervious_Cover_2020_2021
Description:
Single Fused Map Cache: false
Extent:
XMin: 796746.364052473
YMin: 259069.68503861304
XMax: 1613511.364052473
YMax: 967908.685038613
Spatial Reference: 5070
(5070)
LatestVCSWkid(0)
Initial Extent:
XMin: 796746.364052473
YMin: 259069.68503861304
XMax: 1613511.364052473
YMax: 967908.685038613
Spatial Reference: 5070
(5070)
LatestVCSWkid(0)
Full Extent:
XMin: 796746.364052473
YMin: 259069.68503861304
XMax: 1613511.364052473
YMax: 967908.685038613
Spatial Reference: 5070
(5070)
LatestVCSWkid(0)
Pixel Size X: 1.0000000000000002
Pixel Size Y: 1.0
Band Count: 1
Pixel Type: U8
RasterFunction Infos: {"rasterFunctionInfos": [{
"name": "None",
"description": "",
"help": ""
}]}
Mensuration Capabilities: Basic
Has Histograms: true
Has Colormap: false
Has Multi Dimensions : false
Rendering Rule:
Min Scale: 0
Max Scale: 0
Copyright Text:
Service Data Type: esriImageServiceDataTypeThematic
Min Values: 1
Max Values: 255
Mean Values: 3.5089886023625
Standard Deviation Values: 4.4087815342476
Object ID Field:
Fields:
None
Default Mosaic Method: Center
Allowed Mosaic Methods:
SortField:
SortValue: null
Mosaic Operator: First
Default Compression Quality: 75
Default Resampling Method: Bilinear
Max Record Count: null
Max Image Height: 4100
Max Image Width: 15000
Max Download Image Count: null
Max Mosaic Image Count: null
Allow Raster Function: true
Allow Copy: true
Allow Analysis: true
Allow Compute TiePoints: false
Supports Statistics: false
Supports Advanced Queries: false
Use StandardizedQueries: true
Raster Type Infos:
Name: Raster Dataset
Description: Supports all ArcGIS Raster Datasets
Help:
Has Raster Attribute Table: true
Edit Fields Info: null
Ownership Based AccessControl For Rasters: null
Child Resources:
Info
Raster Attribute Table
Histograms
Statistics
Key Properties
Legend
Raster Function Infos
Supported Operations:
Export Image
Identify
Measure
Compute Histograms
Compute Statistics Histograms
Get Samples
Compute Class Statistics
Query Boundary
Compute Pixel Location
Compute Angles
Validate
Project