View In:
ArcGIS JavaScript
ArcGIS Online Map Viewer
ArcGIS Earth
Service Description: Seagrass/SWFWMD_SEAGRASS_2007
Name: Seagrass/SWFWMD_SEAGRASS_2007
Description:
Single Fused Map Cache: false
Extent:
XMin: 505555.6831
YMin: 458390.4595648973
XMax: 537201.6063918467
YMax: 577708.0110000002
Spatial Reference: 3087
(3087)
LatestVCSWkid(0)
Initial Extent:
XMin: 505555.6831
YMin: 458390.4595648973
XMax: 537201.6063918467
YMax: 577708.0110000002
Spatial Reference: 3087
(3087)
LatestVCSWkid(0)
Full Extent:
XMin: 505555.6831
YMin: 458390.4595648973
XMax: 537201.6063918467
YMax: 577708.0110000002
Spatial Reference: 3087
(3087)
LatestVCSWkid(0)
Pixel Size X: 0.3048006096012198
Pixel Size Y: 0.30480060960121924
Band Count: 3
Pixel Type: U8
RasterFunction Infos: {"rasterFunctionInfos": [{
"name": "None",
"description": "A No-Op Function.",
"help": ""
}]}
Mensuration Capabilities: Basic
Has Histograms: true
Has Colormap: false
Has Multi Dimensions : false
Rendering Rule:
Min Scale: 0
Max Scale: 0
Copyright Text:
Service Data Type: esriImageServiceDataTypeRGB
Min Values: 0, 0, 0
Max Values: 255, 255, 255
Mean Values: 52.63191232704313, 87.33542673786297, 90.71763002229835
Standard Deviation Values: 28.34091707333186, 35.57187952159061, 34.87413399993176
Object ID Field: OBJECTID
Fields:
-
OBJECTID
(
type: esriFieldTypeOID, alias: OBJECTID
)
-
Shape
(
type: esriFieldTypeGeometry, alias: Shape
)
-
Name
(
type: esriFieldTypeString, alias: Name, length: 50
)
-
LowPS
(
type: esriFieldTypeDouble, alias: LowPS
)
-
Category
(
type: esriFieldTypeInteger, alias: Category
, Coded Values:
[0: Unknown]
, [1: Primary]
, [2: Overview]
, ...5 more...
)
Default Mosaic Method: Center
Allowed Mosaic Methods: Center,NorthWest,ByAttribute
SortField:
SortValue: null
Mosaic Operator: First
Default Compression Quality: 75
Default Resampling Method: Bilinear
Max Record Count: 1000
Max Image Height: 4100
Max Image Width: 15000
Max Download Image Count: 20
Max Mosaic Image Count: 20
Allow Raster Function: true
Allow Copy: true
Allow Analysis: true
Allow Compute TiePoints: false
Supports Statistics: true
Supports Advanced Queries: true
Use StandardizedQueries: true
Raster Type Infos:
Name: Raster Dataset
Description: Supports all ArcGIS Raster Datasets
Help:
Has Raster Attribute Table: false
Edit Fields Info: null
Ownership Based AccessControl For Rasters: null
Child Resources:
Info
Histograms
Statistics
Key Properties
Legend
Raster Function Infos
Supported Operations:
Export Image
Query
Identify
Measure
Compute Histograms
Compute Statistics Histograms
Get Samples
Compute Class Statistics
Query Boundary
Compute Pixel Location
Compute Angles
Validate
Project