View In:
ArcGIS JavaScript
ArcGIS Online Map Viewer
ArcGIS Earth
Service Description: WMD_Historic_Imagery/SWFWMD_1984_1985
Name: WMD_Historic_Imagery/SWFWMD_1984_1985
Description:
Single Fused Map Cache: false
Extent:
XMin: 508284.8115000017
YMin: 298600.7601160019
XMax: 672914.8282440008
YMax: 617983.4330000002
Spatial Reference: 3087
(3087)
LatestVCSWkid(0)
Initial Extent:
XMin: 508284.8115000017
YMin: 298600.7601160019
XMax: 672914.8282440008
YMax: 617983.4330000002
Spatial Reference: 3087
(3087)
LatestVCSWkid(0)
Full Extent:
XMin: 508284.8115000017
YMin: 298600.7601160019
XMax: 672914.8282440008
YMax: 617983.4330000002
Spatial Reference: 3087
(3087)
LatestVCSWkid(0)
Pixel Size X: 1.3762519999999925
Pixel Size Y: 1.3762519999999927
Band Count: 3
Pixel Type: U8
RasterFunction Infos: {"rasterFunctionInfos": [{
"name": "None",
"description": "",
"help": ""
}]}
Mensuration Capabilities: Basic
Has Histograms: true
Has Colormap: false
Has Multi Dimensions : false
Rendering Rule:
Min Scale: 0
Max Scale: 0
Copyright Text:
Service Data Type: esriImageServiceDataTypeRGB
Min Values: 0, 0, 0
Max Values: 255, 255, 255
Mean Values: 116.17709716489188, 126.55954279679294, 134.55508650848353
Standard Deviation Values: 40.03521177296476, 41.10992418043538, 42.65935224908277
Object ID Field: OBJECTID
Fields:
-
OBJECTID
(
type: esriFieldTypeOID, alias: OBJECTID
)
-
Shape
(
type: esriFieldTypeGeometry, alias: Shape
)
-
Name
(
type: esriFieldTypeString, alias: Name, length: 200
)
-
MinPS
(
type: esriFieldTypeDouble, alias: MinPS
)
-
Category
(
type: esriFieldTypeInteger, alias: Category
, Coded Values:
[0: Unknown]
, [1: Primary]
, [2: Overview]
, ...5 more...
)
Default Mosaic Method: Center
Allowed Mosaic Methods: Center,NorthWest,ByAttribute
SortField:
SortValue: null
Mosaic Operator: First
Default Compression Quality: 75
Default Resampling Method: Bilinear
Max Record Count: 1000
Max Image Height: 4100
Max Image Width: 15000
Max Download Image Count: 20
Max Mosaic Image Count: 20
Allow Raster Function: true
Allow Copy: true
Allow Analysis: true
Allow Compute TiePoints: false
Supports Statistics: true
Supports Advanced Queries: true
Use StandardizedQueries: true
Raster Type Infos:
Name: Raster Dataset
Description: Supports all ArcGIS Raster Datasets
Help:
Has Raster Attribute Table: false
Edit Fields Info: null
Ownership Based AccessControl For Rasters: null
Child Resources:
Info
Histograms
Statistics
Key Properties
Legend
Raster Function Infos
Supported Operations:
Export Image
Query
Identify
Measure
Compute Histograms
Compute Statistics Histograms
Get Samples
Compute Class Statistics
Query Boundary
Compute Pixel Location
Compute Angles
Validate
Project