View In:
ArcGIS JavaScript
ArcGIS Online Map Viewer
ArcGIS Earth
Service Description: This is a rectified mosaic of the individual tiles obtained from FDOT. The mosaic includes areas of Polk and Hillsborough counties where phosphate mining occurred or may occur in the future. The aerial imagery was rectified in ERDAS IMAGINE software using Autosync. The goals for rectification of each individual tile used from the FDOT included 40 control points and a RMS less than 20 pixels (pixel = 1 meter x 1 meter). RMS only measures the error against the projected image that was used as a reference during rectification. The reference image used was the 1970's SWFWMD Aerial Photography. Points not included as control points may have a larger error. The rectified tiles where then compiled into a mosaic using Mosaic Pro within ERDAS IMAGINE.
Name: WRM/BMMR_1975_NonMan_Aerial
Description: This is a rectified mosaic of the individual tiles obtained from FDOT. The mosaic includes areas of Polk and Hillsborough counties where phosphate mining occurred or may occur in the future. The aerial imagery was rectified in ERDAS IMAGINE software using Autosync. The goals for rectification of each individual tile used from the FDOT included 40 control points and a RMS less than 20 pixels (pixel = 1 meter x 1 meter). RMS only measures the error against the projected image that was used as a reference during rectification. The reference image used was the 1970's SWFWMD Aerial Photography. Points not included as control points may have a larger error. The rectified tiles where then compiled into a mosaic using Mosaic Pro within ERDAS IMAGINE.
Single Fused Map Cache: false
Extent:
XMin: 566915.5841999985
YMin: 401381.46055344446
XMax: 624729.8143583048
YMax: 450930.1781
Spatial Reference: 3087
(3087)
LatestVCSWkid(0)
Initial Extent:
XMin: 566915.5841999985
YMin: 401381.46055344446
XMax: 624729.8143583048
YMax: 450930.1781
Spatial Reference: 3087
(3087)
LatestVCSWkid(0)
Full Extent:
XMin: 566915.5841999985
YMin: 401381.46055344446
XMax: 624729.8143583048
YMax: 450930.1781
Spatial Reference: 3087
(3087)
LatestVCSWkid(0)
Pixel Size X: 0.34654784335041455
Pixel Size Y: 0.3465478433504145
Band Count: 1
Pixel Type: U8
RasterFunction Infos: {"rasterFunctionInfos": [{
"name": "None",
"description": "A No-Op Function.",
"help": ""
}]}
Mensuration Capabilities: Basic
Has Histograms: true
Has Colormap: false
Has Multi Dimensions : false
Rendering Rule:
Min Scale: 0
Max Scale: 0
Copyright Text: Beaches, Mining, and ERP Support Program; Division of Water Resource Management; Florida DEP
Service Data Type: esriImageServiceDataTypeGeneric
Min Values: 1
Max Values: 255
Mean Values: 122.55204302498892
Standard Deviation Values: 68.50425724795198
Object ID Field: OBJECTID
Fields:
-
OBJECTID
(
type: esriFieldTypeOID, alias: OBJECTID
)
-
Shape
(
type: esriFieldTypeGeometry, alias: Shape
)
-
Name
(
type: esriFieldTypeString, alias: Name, length: 50
)
-
MinPS
(
type: esriFieldTypeDouble, alias: MinPS
)
-
Category
(
type: esriFieldTypeInteger, alias: Category
, Coded Values:
[0: Unknown]
, [1: Primary]
, [2: Overview]
, ...5 more...
)
Default Mosaic Method: Center
Allowed Mosaic Methods: Center,NorthWest,ByAttribute
SortField:
SortValue: null
Mosaic Operator: First
Default Compression Quality: 75
Default Resampling Method: Bilinear
Max Record Count: 1000
Max Image Height: 4100
Max Image Width: 15000
Max Download Image Count: 20
Max Mosaic Image Count: 20
Allow Raster Function: true
Allow Copy: true
Allow Analysis: true
Allow Compute TiePoints: false
Supports Statistics: true
Supports Advanced Queries: true
Use StandardizedQueries: true
Raster Type Infos:
Name: Raster Dataset
Description: Supports all ArcGIS Raster Datasets
Help:
Has Raster Attribute Table: false
Edit Fields Info: null
Ownership Based AccessControl For Rasters: null
Child Resources:
Info
Histograms
Statistics
Key Properties
Legend
Raster Function Infos
Supported Operations:
Export Image
Query
Identify
Measure
Compute Histograms
Compute Statistics Histograms
Get Samples
Compute Class Statistics
Query Boundary
Compute Pixel Location
Compute Angles
Validate
Project