View In:
ArcGIS JavaScript
ArcGIS Online Map Viewer
ArcGIS Earth
Service Description: Historical Digital Raster Graphic (DRG) images from the 1940's, 1950's and 1960's. The geographic area covered by the historical files are Bone Valley in Central Florida and in North Florida where Mandatory Phosphate Mining has occurred.
Name: WRM/BMMR_DRG
Description: Historical Digital Raster Graphic (DRG) images from the 1940's, 1950's and 1960's. The geographic area covered by the historical files are Bone Valley in Central Florida and in North Florida where Mandatory Phosphate Mining has occurred.
Single Fused Map Cache: false
Extent:
XMin: 495787.39418536396
YMin: 375611.64421640313
XMax: 634438.4691853682
YMax: 735984.2749514142
Spatial Reference: 3087
(3087)
LatestVCSWkid(0)
Initial Extent:
XMin: 495787.39418536396
YMin: 375611.64421640313
XMax: 634438.4691853682
YMax: 735984.2749514142
Spatial Reference: 3087
(3087)
LatestVCSWkid(0)
Full Extent:
XMin: 495787.39418536396
YMin: 375611.64421640313
XMax: 634438.4691853682
YMax: 735984.2749514142
Spatial Reference: 3087
(3087)
LatestVCSWkid(0)
Pixel Size X: 3.0811350000000934
Pixel Size Y: 3.0811350000000948
Band Count: 3
Pixel Type: S16
RasterFunction Infos: {"rasterFunctionInfos": [{
"name": "None",
"description": "A No-Op Function.",
"help": ""
}]}
Mensuration Capabilities: None
Has Histograms: true
Has Colormap: false
Has Multi Dimensions : false
Rendering Rule:
Min Scale: 0
Max Scale: 0
Copyright Text: Original source for these DRGs is the USGS.
Service Data Type: esriImageServiceDataTypeGeneric
Min Values: 0, 0, 0
Max Values: 255, 255, 255
Mean Values: 166.72106751777466, 166.72106751777466, 166.72106751777466
Standard Deviation Values: 51.06119986630948, 51.06119986630948, 51.06119986630948
Object ID Field: OBJECTID
Fields:
-
OBJECTID
(
type: esriFieldTypeOID, alias: OBJECTID
)
-
Shape
(
type: esriFieldTypeGeometry, alias: Shape
)
-
Name
(
type: esriFieldTypeString, alias: Name, length: 50
)
-
MinPS
(
type: esriFieldTypeDouble, alias: MinPS
)
-
Category
(
type: esriFieldTypeInteger, alias: Category
, Coded Values:
[0: Unknown]
, [1: Primary]
, [2: Overview]
, ...5 more...
)
Default Mosaic Method: Center
Allowed Mosaic Methods: Center,NorthWest,ByAttribute
SortField:
SortValue: null
Mosaic Operator: First
Default Compression Quality: 75
Default Resampling Method: Bilinear
Max Record Count: 1000
Max Image Height: 4100
Max Image Width: 15000
Max Download Image Count: 20
Max Mosaic Image Count: 20
Allow Raster Function: true
Allow Copy: true
Allow Analysis: true
Allow Compute TiePoints: false
Supports Statistics: true
Supports Advanced Queries: true
Use StandardizedQueries: true
Raster Type Infos:
Name: Raster Dataset
Description: Supports all ArcGIS Raster Datasets
Help:
Has Raster Attribute Table: false
Edit Fields Info: null
Ownership Based AccessControl For Rasters: null
Child Resources:
Info
Histograms
Statistics
Key Properties
Legend
Raster Function Infos
Supported Operations:
Export Image
Query
Identify
Compute Histograms
Compute Statistics Histograms
Get Samples
Compute Class Statistics
Query Boundary
Compute Pixel Location
Compute Angles
Validate
Project