View In:
ArcGIS JavaScript
ArcGIS Online Map Viewer
ArcGIS Earth
Service Description: This imagery service contains natural color orthophotos covering counties that had imagery captured from December 2019 till July 2020. An orthophoto is remotely sensed image data in which displacement of features in the image caused by terrain relief and sensor orientation have been mathematically removed. Orthophotography combines the image characteristics of a photograph with the geometric qualities of a map.
Contact: GIS.Librarian@FloridaDEP.gov
Name: Imagery/Aerial_Imagery_2020
Description: This imagery service contains natural color orthophotos covering counties that had imagery captured from December 2019 till July 2020. An orthophoto is remotely sensed image data in which displacement of features in the image caused by terrain relief and sensor orientation have been mathematically removed. Orthophotography combines the image characteristics of a photograph with the geometric qualities of a map.
Contact: GIS.Librarian@FloridaDEP.gov
Single Fused Map Cache: false
Extent:
XMin: 510925.86290000007
YMin: 129538.12393667758
XMax: 789906.5080612905
YMax: 733619.7851
Spatial Reference: 102967
(6439)
LatestVCSWkid(0)
Initial Extent:
XMin: 510925.86290000007
YMin: 129538.12393667758
XMax: 789906.5080612905
YMax: 733619.7851
Spatial Reference: 102967
(6439)
LatestVCSWkid(0)
Full Extent:
XMin: 510925.86290000007
YMin: 129538.12393667758
XMax: 789906.5080612905
YMax: 733619.7851
Spatial Reference: 102967
(6439)
LatestVCSWkid(0)
Pixel Size X: 0.07620015240030482
Pixel Size Y: 0.07620015240030481
Band Count: 4
Pixel Type: U8
RasterFunction Infos: {"rasterFunctionInfos": [{
"name": "None",
"description": "Make a Raster or Raster Dataset into a Function Raster Dataset.",
"help": ""
}]}
Mensuration Capabilities: None
Has Histograms: true
Has Colormap: false
Has Multi Dimensions : false
Rendering Rule:
Min Scale: 0
Max Scale: 0
Copyright Text: FDOT
Service Data Type: esriImageServiceDataTypeGeneric
Min Values: 0, 3, 6, 6
Max Values: 243, 243, 238, 238
Mean Values: 73.95656750220259, 79.29639353568217, 71.23302170738039, 71.23302170738039
Standard Deviation Values: 28.646250508952605, 24.760227204877772, 22.25274394846773, 22.25274394846773
Object ID Field: OBJECTID
Fields:
-
OBJECTID
(
type: esriFieldTypeOID, alias: OBJECTID
)
-
Shape
(
type: esriFieldTypeGeometry, alias: Shape
)
-
Name
(
type: esriFieldTypeString, alias: Name, length: 200
)
-
LowPS
(
type: esriFieldTypeDouble, alias: LowPS
)
-
Category
(
type: esriFieldTypeInteger, alias: Category
, Coded Values:
[0: Unknown]
, [1: Primary]
, [2: Overview]
, ...6 more...
)
-
END_DATE
(
type: esriFieldTypeString, alias: END_DATE, length: 50
)
-
DATASET_ID
(
type: esriFieldTypeString, alias: DATASET_ID, length: 50
)
-
YEAR
(
type: esriFieldTypeDouble, alias: YEAR
)
-
START_DATE
(
type: esriFieldTypeString, alias: START_DATE, length: 50
)
Default Mosaic Method: Center
Allowed Mosaic Methods: Center,NorthWest,LockRaster,ByAttribute
SortField:
SortValue: null
Mosaic Operator: First
Default Compression Quality: 75
Default Resampling Method: Bilinear
Max Record Count: 1000
Max Image Height: 4100
Max Image Width: 15000
Max Download Image Count: 20
Max Mosaic Image Count: 20
Allow Raster Function: true
Allow Copy: true
Allow Analysis: true
Allow Compute TiePoints: false
Supports Statistics: true
Supports Advanced Queries: true
Use StandardizedQueries: true
Raster Type Infos:
Name: Raster Dataset
Description: Supports all ArcGIS Raster Datasets
Help:
Has Raster Attribute Table: false
Edit Fields Info: null
Ownership Based AccessControl For Rasters: null
Child Resources:
Info
Histograms
Statistics
Key Properties
Legend
Raster Function Infos
Supported Operations:
Export Image
Query
Identify
Compute Histograms
Compute Statistics Histograms
Get Samples
Compute Class Statistics
Query Boundary
Compute Pixel Location
Compute Angles
Validate
Project