View In:
ArcGIS JavaScript
ArcGIS Online Map Viewer
ArcGIS Earth
Service Description: Bureau staff acquired historical aerial images from the Department of Transportation from the 1980s. The geographic areas covered by the historical files are in Hillsborough, Polk, Manatee, Hardee, and Desoto in Central Florida where Mandatory Phosphate mining has occurred. Each individual image was rectified and a mosaic was created. Mosaic includes areas within the counties above that have had phosphate mining or will potentionaly be mined. Please notice that not the whole counties were rectified, but only those areas pertinent to phosphate mining.
Please contact GIS.Librarian@FloridaDEP.gov for more information.
Name: Imagery/BMMR_Manpho_1980
Description: Bureau staff acquired historical aerial images from the Department of Transportation from the 1980s. The geographic areas covered by the historical files are in Hillsborough, Polk, Manatee, Hardee, and Desoto in Central Florida where Mandatory Phosphate mining has occurred. Each individual image was rectified and a mosaic was created. Mosaic includes areas within the counties above that have had phosphate mining or will potentionaly be mined. Please notice that not the whole counties were rectified, but only those areas pertinent to phosphate mining.
Please contact GIS.Librarian@FloridaDEP.gov for more information.
Single Fused Map Cache: false
Extent:
XMin: 569762.2596922378
YMin: 345030.2475966913
XMax: 632232.9840192753
YMax: 472207.76047479635
Spatial Reference: 3087
(3087)
LatestVCSWkid(0)
Initial Extent:
XMin: 569762.2596922378
YMin: 345030.2475966913
XMax: 632232.9840192753
YMax: 472207.76047479635
Spatial Reference: 3087
(3087)
LatestVCSWkid(0)
Full Extent:
XMin: 569762.2596922378
YMin: 345030.2475966913
XMax: 632232.9840192753
YMax: 472207.76047479635
Spatial Reference: 3087
(3087)
LatestVCSWkid(0)
Pixel Size X: 0.3400340973281885
Pixel Size Y: 0.34003409732818834
Band Count: 1
Pixel Type: U8
RasterFunction Infos: {"rasterFunctionInfos": [{
"name": "None",
"description": "A No-Op Function.",
"help": ""
}]}
Mensuration Capabilities: Basic
Has Histograms: true
Has Colormap: false
Has Multi Dimensions : false
Rendering Rule:
Min Scale: 0
Max Scale: 0
Copyright Text: FDEP Bureau of Mine Reclamation
Service Data Type: esriImageServiceDataTypeGeneric
Min Values: 0
Max Values: 255
Mean Values: 120.13130775090804
Standard Deviation Values: 57.981852115793465
Object ID Field: OBJECTID
Fields:
-
OBJECTID
(
type: esriFieldTypeOID, alias: OBJECTID
)
-
Shape
(
type: esriFieldTypeGeometry, alias: Shape
)
-
Name
(
type: esriFieldTypeString, alias: Name, length: 50
)
-
MinPS
(
type: esriFieldTypeDouble, alias: MinPS
)
-
Category
(
type: esriFieldTypeInteger, alias: Category
, Coded Values:
[0: Unknown]
, [1: Primary]
, [2: Overview]
, ...5 more...
)
Default Mosaic Method: Center
Allowed Mosaic Methods: Center,NorthWest,ByAttribute
SortField:
SortValue: null
Mosaic Operator: First
Default Compression Quality: 75
Default Resampling Method: Bilinear
Max Record Count: 1000
Max Image Height: 4100
Max Image Width: 15000
Max Download Image Count: 20
Max Mosaic Image Count: 20
Allow Raster Function: true
Allow Copy: true
Allow Analysis: true
Allow Compute TiePoints: false
Supports Statistics: true
Supports Advanced Queries: true
Use StandardizedQueries: true
Raster Type Infos:
Name: Raster Dataset
Description: Supports all ArcGIS Raster Datasets
Help:
Has Raster Attribute Table: false
Edit Fields Info: null
Ownership Based AccessControl For Rasters: null
Child Resources:
Info
Histograms
Statistics
Key Properties
Legend
Raster Function Infos
Supported Operations:
Export Image
Query
Identify
Measure
Compute Histograms
Compute Statistics Histograms
Get Samples
Compute Class Statistics
Query Boundary
Compute Pixel Location
Compute Angles
Validate
Project