View In:
ArcGIS JavaScript
ArcGIS Online Map Viewer
ArcGIS Earth
Service Description: LiDAR dataset for use in FGS map journal 'Spring Inventory'. Contact Garrett Evans or Tom Greenhalgh.
Name: Imagery/FGS_Spring_Inventory_TayCounty_LiDAR
Description: LiDAR dataset for use in FGS map journal 'Spring Inventory'. Contact Garrett Evans or Tom Greenhalgh.
Single Fused Map Cache: false
Extent:
XMin: -83.9893798828125
YMin: 29.669132276648128
XMax: -83.31278449485944
YMax: 30.2777296875
Spatial Reference: 4269
(4269)
LatestVCSWkid(0)
Initial Extent:
XMin: -83.9893798828125
YMin: 29.669132276648128
XMax: -83.31278449485944
YMax: 30.2777296875
Spatial Reference: 4269
(4269)
LatestVCSWkid(0)
Full Extent:
XMin: -83.9893798828125
YMin: 29.669132276648128
XMax: -83.31278449485944
YMax: 30.2777296875
Spatial Reference: 4269
(4269)
LatestVCSWkid(0)
Pixel Size X: 9.697372661321424E-6
Pixel Size Y: 9.697372661321424E-6
Band Count: 1
Pixel Type: F32
RasterFunction Infos: {"rasterFunctionInfos": [
{
"name": "LiDAR",
"description": "A raster function template.",
"help": ""
},
{
"name": "None",
"description": "",
"help": ""
}
]}
Mensuration Capabilities: Basic
Has Histograms: true
Has Colormap: false
Has Multi Dimensions : false
Rendering Rule:
Min Scale: 0
Max Scale: 0
Copyright Text: FGS, Garrett Evans, Tom Greenhalgh
Service Data Type: esriImageServiceDataTypeGeneric
Min Values: -7.8499999046326
Max Values: 105.55999755859
Mean Values: 21.026831739538
Standard Deviation Values: 12.066394070846
Object ID Field:
Fields:
None
Default Mosaic Method: Center
Allowed Mosaic Methods:
SortField:
SortValue: null
Mosaic Operator: First
Default Compression Quality: 75
Default Resampling Method: Bilinear
Max Record Count: null
Max Image Height: 4100
Max Image Width: 15000
Max Download Image Count: null
Max Mosaic Image Count: null
Allow Raster Function: true
Allow Copy: true
Allow Analysis: true
Allow Compute TiePoints: false
Supports Statistics: false
Supports Advanced Queries: false
Use StandardizedQueries: true
Raster Type Infos:
Name: Raster Dataset
Description: Supports all ArcGIS Raster Datasets
Help:
Has Raster Attribute Table: false
Edit Fields Info: null
Ownership Based AccessControl For Rasters: null
Child Resources:
Info
Histograms
Statistics
Key Properties
Legend
Raster Function Infos
Supported Operations:
Export Image
Identify
Measure
Compute Histograms
Compute Statistics Histograms
Get Samples
Compute Class Statistics
Query Boundary
Compute Pixel Location
Compute Angles
Validate
Project