View In:
ArcGIS JavaScript
ArcGIS Online Map Viewer
ArcGIS Earth
Service Description: The Southwest Florida Water Management District (District) is responsible for the protection and management of natural systems and water quality within its geographic boundaries. One component of evaluating the ecological health of coastal ecosystems is to map and monitor submerged aquatic vegetation (SAV) communities. This project is a continuation of previous efforts to determine the status and trends (if any) of SAV resources in the coastal waters of the District. This imagery from the SWFWMD was used as a part of the 2007 Springs Coast Seagrass Mapping Project.This project will complete a detailed map of the selected benthic habitats along the Springs Coast region. This imagery layer should be used in conjunction with the Hard Bottom Habitats - Springs Coast layer available in DataCatalog/DataMiner.
Name: Imagery/SWFWMD_1972_1975
Description: The Southwest Florida Water Management District (District) is responsible for the protection and management of natural systems and water quality within its geographic boundaries. One component of evaluating the ecological health of coastal ecosystems is to map and monitor submerged aquatic vegetation (SAV) communities. This project is a continuation of previous efforts to determine the status and trends (if any) of SAV resources in the coastal waters of the District. This imagery from the SWFWMD was used as a part of the 2007 Springs Coast Seagrass Mapping Project.This project will complete a detailed map of the selected benthic habitats along the Springs Coast region. This imagery layer should be used in conjunction with the Hard Bottom Habitats - Springs Coast layer available in DataCatalog/DataMiner.
Single Fused Map Cache: false
Extent:
XMin: 509004.8354000002
YMin: 305975.7080000001
XMax: 672320.8354000002
YMax: 618375.7080000001
Spatial Reference: 3087
(3087)
LatestVCSWkid(0)
Initial Extent:
XMin: 509004.8354000002
YMin: 305975.7080000001
XMax: 672320.8354000002
YMax: 618375.7080000001
Spatial Reference: 3087
(3087)
LatestVCSWkid(0)
Full Extent:
XMin: 509004.8354000002
YMin: 305975.7080000001
XMax: 672320.8354000002
YMax: 618375.7080000001
Spatial Reference: 3087
(3087)
LatestVCSWkid(0)
Pixel Size X: 1.0
Pixel Size Y: 1.0
Band Count: 1
Pixel Type: U8
RasterFunction Infos: {"rasterFunctionInfos": [{
"name": "None",
"description": "A No-Op Function.",
"help": ""
}]}
Mensuration Capabilities: Basic
Has Histograms: true
Has Colormap: false
Has Multi Dimensions : false
Rendering Rule:
Min Scale: 0
Max Scale: 0
Copyright Text: SWFWMD
Service Data Type: esriImageServiceDataTypeGeneric
Min Values: 0
Max Values: 255
Mean Values: 121.96848898823896
Standard Deviation Values: 29.017649049431906
Object ID Field: OBJECTID
Fields:
-
OBJECTID
(
type: esriFieldTypeOID, alias: OBJECTID
)
-
Shape
(
type: esriFieldTypeGeometry, alias: Shape
)
-
Name
(
type: esriFieldTypeString, alias: Name, length: 50
)
-
MinPS
(
type: esriFieldTypeDouble, alias: MinPS
)
-
Category
(
type: esriFieldTypeInteger, alias: Category
, Coded Values:
[0: Unknown]
, [1: Primary]
, [2: Overview]
, ...5 more...
)
Default Mosaic Method: Center
Allowed Mosaic Methods: Center,NorthWest,ByAttribute
SortField:
SortValue: null
Mosaic Operator: First
Default Compression Quality: 75
Default Resampling Method: Bilinear
Max Record Count: 1000
Max Image Height: 4100
Max Image Width: 15000
Max Download Image Count: 20
Max Mosaic Image Count: 20
Allow Raster Function: true
Allow Copy: true
Allow Analysis: true
Allow Compute TiePoints: false
Supports Statistics: true
Supports Advanced Queries: true
Use StandardizedQueries: true
Raster Type Infos:
Name: Raster Dataset
Description: Supports all ArcGIS Raster Datasets
Help:
Has Raster Attribute Table: false
Edit Fields Info: null
Ownership Based AccessControl For Rasters: null
Child Resources:
Info
Histograms
Statistics
Key Properties
Legend
Raster Function Infos
Supported Operations:
Export Image
Query
Identify
Measure
Compute Histograms
Compute Statistics Histograms
Get Samples
Compute Class Statistics
Query Boundary
Compute Pixel Location
Compute Angles
Validate
Project