View In:
ArcGIS JavaScript
ArcGIS Online Map Viewer
ArcGIS Earth
Service Description: The top of the Floridan Aquifer System was created by using FGS well core and cuttings data. The surface was interpolated by using the kriging method of the ArcGIS Geostatistical Analyst extension.
Name: OpenData/FAS_TOP
Description: The top of the Floridan Aquifer System was created by using FGS well core and cuttings data. The surface was interpolated by using the kriging method of the ArcGIS Geostatistical Analyst extension.
Single Fused Map Cache: false
Extent:
XMin: 49797.27190464776
YMin: 57454.08285952732
XMax: 797037.2719046478
YMax: 784414.0828595273
Spatial Reference: 102967
(6439)
LatestVCSWkid(0)
Initial Extent:
XMin: 49797.27190464776
YMin: 57454.08285952732
XMax: 797037.2719046478
YMax: 784414.0828595273
Spatial Reference: 102967
(6439)
LatestVCSWkid(0)
Full Extent:
XMin: 49797.27190464776
YMin: 57454.08285952732
XMax: 797037.2719046478
YMax: 784414.0828595273
Spatial Reference: 102967
(6439)
LatestVCSWkid(0)
Pixel Size X: 390.0
Pixel Size Y: 390.0
Band Count: 1
Pixel Type: S16
RasterFunction Infos: {"rasterFunctionInfos": [
{
"name": "FAS_TOP_6439",
"description": "A raster function template.",
"help": ""
},
{
"name": "None",
"description": "",
"help": ""
}
]}
Mensuration Capabilities: Basic
Has Histograms: true
Has Colormap: false
Has Multi Dimensions : false
Rendering Rule:
Min Scale: 0
Max Scale: 0
Copyright Text: Florida Geological Survey
Service Data Type: esriImageServiceDataTypeGeneric
Min Values: -1439
Max Values: 162
Mean Values: -300.95483687562023
Standard Deviation Values: 361.53914590782244
Object ID Field:
Fields:
None
Default Mosaic Method: Center
Allowed Mosaic Methods:
SortField:
SortValue: null
Mosaic Operator: First
Default Compression Quality: 75
Default Resampling Method: Bilinear
Max Record Count: null
Max Image Height: 4100
Max Image Width: 15000
Max Download Image Count: null
Max Mosaic Image Count: null
Allow Raster Function: true
Allow Copy: true
Allow Analysis: true
Allow Compute TiePoints: false
Supports Statistics: false
Supports Advanced Queries: false
Use StandardizedQueries: true
Raster Type Infos:
Name: Raster Dataset
Description: Supports all ArcGIS Raster Datasets
Help:
Has Raster Attribute Table: false
Edit Fields Info: null
Ownership Based AccessControl For Rasters: null
Child Resources:
Info
Histograms
Statistics
Key Properties
Legend
Raster Function Infos
Supported Operations:
Export Image
Identify
Measure
Compute Histograms
Compute Statistics Histograms
Get Samples
Compute Class Statistics
Query Boundary
Compute Pixel Location
Compute Angles
Validate
Project