View In:
ArcGIS JavaScript
ArcGIS Online Map Viewer
ArcGIS Earth
Service Description: The top of IAS grid was created by using Florida Geological Survey well core and cuttings data. The surface was interpolated by using the kriging method from the ArcGIS Geostatistical Analyst package.
Name: OpenData/IAS_TOP
Description: The top of IAS grid was created by using Florida Geological Survey well core and cuttings data. The surface was interpolated by using the kriging method from the ArcGIS Geostatistical Analyst package.
Single Fused Map Cache: false
Extent:
XMin: 52230.3835654185
YMin: 48083.2850768305
XMax: 800250.383565419
YMax: 801173.285076831
Spatial Reference: 102967
(6439)
LatestVCSWkid(0)
Initial Extent:
XMin: 52230.3835654185
YMin: 48083.2850768305
XMax: 800250.383565419
YMax: 801173.285076831
Spatial Reference: 102967
(6439)
LatestVCSWkid(0)
Full Extent:
XMin: 52230.3835654185
YMin: 48083.2850768305
XMax: 800250.383565419
YMax: 801173.285076831
Spatial Reference: 102967
(6439)
LatestVCSWkid(0)
Pixel Size X: 390.0000000000002
Pixel Size Y: 390.0000000000002
Band Count: 1
Pixel Type: S16
RasterFunction Infos: {"rasterFunctionInfos": [
{
"name": "IAS_TOP_6439",
"description": "A raster function template.",
"help": ""
},
{
"name": "None",
"description": "",
"help": ""
}
]}
Mensuration Capabilities: Basic
Has Histograms: true
Has Colormap: false
Has Multi Dimensions : false
Rendering Rule:
Min Scale: 0
Max Scale: 0
Copyright Text: Florida Geological Survey
Service Data Type: esriImageServiceDataTypeGeneric
Min Values: -371
Max Values: 255
Mean Values: -23.79542418889224
Standard Deviation Values: 97.93608826049393
Object ID Field:
Fields:
None
Default Mosaic Method: Center
Allowed Mosaic Methods:
SortField:
SortValue: null
Mosaic Operator: First
Default Compression Quality: 75
Default Resampling Method: Bilinear
Max Record Count: null
Max Image Height: 4100
Max Image Width: 15000
Max Download Image Count: null
Max Mosaic Image Count: null
Allow Raster Function: true
Allow Copy: true
Allow Analysis: true
Allow Compute TiePoints: false
Supports Statistics: false
Supports Advanced Queries: false
Use StandardizedQueries: true
Raster Type Infos:
Name: Raster Dataset
Description: Supports all ArcGIS Raster Datasets
Help:
Has Raster Attribute Table: true
Edit Fields Info: null
Ownership Based AccessControl For Rasters: null
Child Resources:
Info
Raster Attribute Table
Histograms
Statistics
Key Properties
Legend
Raster Function Infos
Supported Operations:
Export Image
Identify
Measure
Compute Histograms
Compute Statistics Histograms
Get Samples
Compute Class Statistics
Query Boundary
Compute Pixel Location
Compute Angles
Validate
Project