View In:
ArcGIS JavaScript
ArcGIS Online Map Viewer
ArcGIS Earth
Service Description: The Surficial Aquifer System (SAS) depth to water table surface grid was created by subtracting the water table surface grid from the DEM.
Name: OpenData/SAS_DTW
Description: The Surficial Aquifer System (SAS) depth to water table surface grid was created by subtracting the water table surface grid from the DEM.
Single Fused Map Cache: false
Extent:
XMin: 52668.02734399831
YMin: 127156.671875002
XMax: 793968.027343998
YMax: 781606.6718750021
Spatial Reference: 102967
(6439)
LatestVCSWkid(0)
Initial Extent:
XMin: 52668.02734399831
YMin: 127156.671875002
XMax: 793968.027343998
YMax: 781606.6718750021
Spatial Reference: 102967
(6439)
LatestVCSWkid(0)
Full Extent:
XMin: 52668.02734399831
YMin: 127156.671875002
XMax: 793968.027343998
YMax: 781606.6718750021
Spatial Reference: 102967
(6439)
LatestVCSWkid(0)
Pixel Size X: 29.999999999999986
Pixel Size Y: 30.000000000000007
Band Count: 1
Pixel Type: U8
RasterFunction Infos: {"rasterFunctionInfos": [
{
"name": "SAS_DTW_6439",
"description": "A raster function template.",
"help": ""
},
{
"name": "None",
"description": "",
"help": ""
}
]}
Mensuration Capabilities: Basic
Has Histograms: true
Has Colormap: false
Has Multi Dimensions : false
Rendering Rule:
Min Scale: 0
Max Scale: 0
Copyright Text: Florida Geological Survey
Service Data Type: esriImageServiceDataTypeGeneric
Min Values: 1
Max Values: 220
Mean Values: 7.417473147511107
Standard Deviation Values: 11.082584455200616
Object ID Field:
Fields:
None
Default Mosaic Method: Center
Allowed Mosaic Methods:
SortField:
SortValue: null
Mosaic Operator: First
Default Compression Quality: 75
Default Resampling Method: Bilinear
Max Record Count: null
Max Image Height: 4100
Max Image Width: 15000
Max Download Image Count: null
Max Mosaic Image Count: null
Allow Raster Function: true
Allow Copy: true
Allow Analysis: true
Allow Compute TiePoints: false
Supports Statistics: false
Supports Advanced Queries: false
Use StandardizedQueries: true
Raster Type Infos:
Name: Raster Dataset
Description: Supports all ArcGIS Raster Datasets
Help:
Has Raster Attribute Table: true
Edit Fields Info: null
Ownership Based AccessControl For Rasters: null
Child Resources:
Info
Raster Attribute Table
Histograms
Statistics
Key Properties
Legend
Raster Function Infos
Supported Operations:
Export Image
Identify
Measure
Compute Histograms
Compute Statistics Histograms
Get Samples
Compute Class Statistics
Query Boundary
Compute Pixel Location
Compute Angles
Validate
Project