View In:
ArcGIS JavaScript
ArcGIS Online Map Viewer
ArcGIS Earth
Service Description: Aerial imagery from the 2003 - 2004 imagery acquisition cycle. Pursuant to Section 195.022, Florida Statutes, "Upon request of any property appraiser or, in any event, at least once every 3 years, the [Florida Department of Revenue (FDOR)] shall prescribe and furnish such aerial photographs and nonproperty ownership maps to the property appraisers as necessary to ensure that all real property within the state is properly listed on the roll." FDEP acquires orthorectified color images from the Florida Departmet of Transportation (FDOT)'s Aerial Photo Lookup System. FDEP creates this raster mosaic dataset from the orthoimages for each applicable year.
Counties in this dataset are: Citrus, Clay, DeSoto, Escambia, Gadsden, Hardee, Hernando, Marion, Pasco, and Wakulla.
Created 5/17/2019.
Name: FDOT_Yearly_Aerials/Aerial_Imagery_2004
Description: Aerial imagery from the 2003 - 2004 imagery acquisition cycle. Pursuant to Section 195.022, Florida Statutes, "Upon request of any property appraiser or, in any event, at least once every 3 years, the [Florida Department of Revenue (FDOR)] shall prescribe and furnish such aerial photographs and nonproperty ownership maps to the property appraisers as necessary to ensure that all real property within the state is properly listed on the roll." FDEP acquires orthorectified color images from the Florida Departmet of Transportation (FDOT)'s Aerial Photo Lookup System. FDEP creates this raster mosaic dataset from the orthoimages for each applicable year.
Counties in this dataset are: Citrus, Clay, DeSoto, Escambia, Gadsden, Hardee, Hernando, Marion, Pasco, and Wakulla.
Created 5/17/2019.
Single Fused Map Cache: false
Extent:
XMin: -111326.13120000064
YMin: 336484.0898721365
XMax: 642557.4552871725
YMax: 1000688.0218000005
Spatial Reference: 3087
(3087)
LatestVCSWkid(0)
Initial Extent:
XMin: -111326.13120000064
YMin: 336484.0898721365
XMax: 642557.4552871725
YMax: 1000688.0218000005
Spatial Reference: 3087
(3087)
LatestVCSWkid(0)
Full Extent:
XMin: -111326.13120000064
YMin: 336484.0898721365
XMax: 642557.4552871725
YMax: 1000688.0218000005
Spatial Reference: 3087
(3087)
LatestVCSWkid(0)
Pixel Size X: 0.2438404876809754
Pixel Size Y: 0.2438404876809754
Band Count: 3
Pixel Type: U8
RasterFunction Infos: {"rasterFunctionInfos": [{
"name": "None",
"description": "A No-Op Function.",
"help": ""
}]}
Mensuration Capabilities: Basic
Has Histograms: true
Has Colormap: false
Has Multi Dimensions : false
Rendering Rule:
Min Scale: 0
Max Scale: 0
Copyright Text: FDOR, FDOT, FDEP
Service Data Type: esriImageServiceDataTypeRGB
Min Values: 0, 0, 0
Max Values: 255, 255, 255
Mean Values: 83.92759562841539, 94.91277322404376, 86.30430327868817
Standard Deviation Values: 30.53218254798135, 29.219916357649492, 26.650707642302354
Object ID Field: OBJECTID
Fields:
-
OBJECTID
(
type: esriFieldTypeOID, alias: OBJECTID
)
-
Shape
(
type: esriFieldTypeGeometry, alias: Shape
)
-
Name
(
type: esriFieldTypeString, alias: Name, length: 200
)
-
MinPS
(
type: esriFieldTypeDouble, alias: MinPS
)
-
MaxPS
(
type: esriFieldTypeDouble, alias: MaxPS
)
-
LowPS
(
type: esriFieldTypeDouble, alias: LowPS
)
-
HighPS
(
type: esriFieldTypeDouble, alias: HighPS
)
-
Category
(
type: esriFieldTypeInteger, alias: Category
, Coded Values:
[0: Unknown]
, [1: Primary]
, [2: Overview]
, ...6 more...
)
-
Tag
(
type: esriFieldTypeString, alias: Tag, length: 100
)
-
GroupName
(
type: esriFieldTypeString, alias: GroupName, length: 100
)
-
ProductName
(
type: esriFieldTypeString, alias: ProductName, length: 100
)
-
CenterX
(
type: esriFieldTypeDouble, alias: CenterX
)
-
CenterY
(
type: esriFieldTypeDouble, alias: CenterY
)
-
ZOrder
(
type: esriFieldTypeInteger, alias: ZOrder
)
-
Shape_Length
(
type: esriFieldTypeDouble, alias: Shape_Length
)
-
Shape_Area
(
type: esriFieldTypeDouble, alias: Shape_Area
)
-
DATASET_ID
(
type: esriFieldTypeString, alias: DATASET_ID, length: 50
)
-
START_DATE
(
type: esriFieldTypeString, alias: START_DATE, length: 50
)
-
END_DATE
(
type: esriFieldTypeString, alias: END_DATE, length: 50
)
-
YEAR
(
type: esriFieldTypeSmallInteger, alias: YEAR
)
-
SOURCE
(
type: esriFieldTypeString, alias: SOURCE, length: 50
)
Default Mosaic Method: Center
Allowed Mosaic Methods: Center,NorthWest,LockRaster,ByAttribute
SortField:
SortValue: null
Mosaic Operator: First
Default Compression Quality: 75
Default Resampling Method: Bilinear
Max Record Count: 1000
Max Image Height: 4100
Max Image Width: 15000
Max Download Image Count: 20
Max Mosaic Image Count: 20
Allow Raster Function: true
Allow Copy: true
Allow Analysis: true
Allow Compute TiePoints: false
Supports Statistics: true
Supports Advanced Queries: true
Use StandardizedQueries: true
Raster Type Infos:
Name: Raster Dataset
Description: Supports all ArcGIS Raster Datasets
Help:
Has Raster Attribute Table: false
Edit Fields Info: null
Ownership Based AccessControl For Rasters: null
Child Resources:
Info
Histograms
Statistics
Key Properties
Legend
Raster Function Infos
Supported Operations:
Export Image
Query
Identify
Measure
Compute Histograms
Compute Statistics Histograms
Get Samples
Compute Class Statistics
Query Boundary
Compute Pixel Location
Compute Angles
Validate
Project