View In:
ArcGIS JavaScript
ArcGIS Online Map Viewer
ArcGIS Earth
Service Description: The digital imagery has been prepared for use in GIS systems and is also suitable for hard copy plots. The images are high resolution (0.5 foot pixel) low altitude color aerial photography. The coastal counties, flight date and source if other than this Bureau included in this project are: Bay 4/30/08, Brevard 4/28/06, Broward 4/25/06, Charlotte 1/08 DOT, Collier 12/30/08 County, Dade 4/25/06, Duval 3/29/07, Escambia 4/29/08, Flagler 3/28/07, Franklin 4/30/08, Gulf 4/30/08, Indian River 4/26/06, Lee 1/08 DOT, Manatee 1/08 DOT, Martin 4/28/06, Nassau 3/29/07, Okaloosa 7/10/07, Palm Beach 4/25/06, Pinellas 1/08 DOT, Sarasota 1/08 DOT, St. Johns 3/29/07, St. Lucie 4/26/06, Volusia 3/28/07 and Walton 7/10/07. Photos acquired by BBCS are approximately 3000 ft. inland and 1500 ft. seaward of the beach. Accuracy for the entire project is 2 ft. Accuracy of individual photos may vary but no photo is over the six foot allowable error. Photos collected from other sources have a similar accuracy standards but since we have no control on the flight path seaward extent maybe limited.
Name: RCP/Beaches_2008
Description: The digital imagery has been prepared for use in GIS systems and is also suitable for hard copy plots. The images are high resolution (0.5 foot pixel) low altitude color aerial photography. The coastal counties, flight date and source if other than this Bureau included in this project are: Bay 4/30/08, Brevard 4/28/06, Broward 4/25/06, Charlotte 1/08 DOT, Collier 12/30/08 County, Dade 4/25/06, Duval 3/29/07, Escambia 4/29/08, Flagler 3/28/07, Franklin 4/30/08, Gulf 4/30/08, Indian River 4/26/06, Lee 1/08 DOT, Manatee 1/08 DOT, Martin 4/28/06, Nassau 3/29/07, Okaloosa 7/10/07, Palm Beach 4/25/06, Pinellas 1/08 DOT, Sarasota 1/08 DOT, St. Johns 3/29/07, St. Lucie 4/26/06, Volusia 3/28/07 and Walton 7/10/07. Photos acquired by BBCS are approximately 3000 ft. inland and 1500 ft. seaward of the beach. Accuracy for the entire project is 2 ft. Accuracy of individual photos may vary but no photo is over the six foot allowable error. Photos collected from other sources have a similar accuracy standards but since we have no control on the flight path seaward extent maybe limited.
Single Fused Map Cache: false
Extent:
XMin: 61360.613499999046
YMin: 189996.62162270793
XMax: 795215.0204088129
YMax: 750085.2678000004
Spatial Reference: 3087
(3087)
LatestVCSWkid(0)
Initial Extent:
XMin: 61360.613499999046
YMin: 189996.62162270793
XMax: 795215.0204088129
YMax: 750085.2678000004
Spatial Reference: 3087
(3087)
LatestVCSWkid(0)
Full Extent:
XMin: 61360.613499999046
YMin: 189996.62162270793
XMax: 795215.0204088129
YMax: 750085.2678000004
Spatial Reference: 3087
(3087)
LatestVCSWkid(0)
Pixel Size X: 0.15240030480060962
Pixel Size Y: 0.15240030480060962
Band Count: 3
Pixel Type: U8
RasterFunction Infos: {"rasterFunctionInfos": [{
"name": "None",
"description": "",
"help": ""
}]}
Mensuration Capabilities: Basic
Has Histograms: true
Has Colormap: false
Has Multi Dimensions : false
Rendering Rule:
Min Scale: 0
Max Scale: 0
Copyright Text:
Service Data Type: esriImageServiceDataTypeRGB
Min Values: 0, 0, 0
Max Values: 255, 255, 255
Mean Values: 81.0214969048959, 98.03725379853687, 88.6901519414744
Standard Deviation Values: 53.64761422623515, 54.4219497261746, 51.56049325926781
Object ID Field: OBJECTID
Fields:
-
OBJECTID
(
type: esriFieldTypeOID, alias: OBJECTID
)
-
Shape
(
type: esriFieldTypeGeometry, alias: Shape
)
-
Name
(
type: esriFieldTypeString, alias: Name, length: 50
)
-
LowPS
(
type: esriFieldTypeDouble, alias: LowPS
)
-
Category
(
type: esriFieldTypeInteger, alias: Category
, Coded Values:
[0: Unknown]
, [1: Primary]
, [2: Overview]
, ...5 more...
)
Default Mosaic Method: Center
Allowed Mosaic Methods: Center,NorthWest,ByAttribute
SortField:
SortValue: null
Mosaic Operator: First
Default Compression Quality: 75
Default Resampling Method: Bilinear
Max Record Count: 1000
Max Image Height: 4100
Max Image Width: 15000
Max Download Image Count: 20
Max Mosaic Image Count: 20
Allow Raster Function: true
Allow Copy: true
Allow Analysis: true
Allow Compute TiePoints: false
Supports Statistics: true
Supports Advanced Queries: true
Use StandardizedQueries: true
Raster Type Infos:
Name: Raster Dataset
Description: Supports all ArcGIS Raster Datasets
Help:
Has Raster Attribute Table: false
Edit Fields Info: null
Ownership Based AccessControl For Rasters: null
Child Resources:
Info
Histograms
Statistics
Key Properties
Legend
Raster Function Infos
Supported Operations:
Export Image
Query
Identify
Measure
Compute Histograms
Compute Statistics Histograms
Get Samples
Compute Class Statistics
Query Boundary
Compute Pixel Location
Compute Angles
Validate
Project